BEGIN:VCALENDAR
VERSION:2.0
PRODID:-//ChamberMaster//Event Calendar 2.0//EN
METHOD:PUBLISH
X-PUBLISHED-TTL:P3D
REFRESH-INTERVAL:P3D
CALSCALE:GREGORIAN
BEGIN:VEVENT
DTSTART:20070623T150000Z
DTEND:20070624T020000Z
X-MICROSOFT-CDO-ALLDAYEVENT:FALSE
SUMMARY:Sidewalk Sale - Up to 70% Off
DESCRIPTION:Hourly giveaways:\nChance to win a 2003 Custom Shop Fender Telecaster ($2250 value)\nChance to win a New Bob Long Rapper paintball gun  ($1100 value)
X-ALT-DESC;FMTTYPE=text/html:<DIV><DIV><FONT face=Stencil>Hourly giveaways<SPAN class=067513016-21062007>:</SPAN><BR></FONT></DIV><DIV><FONT face=Stencil>Chance to win a 2003 Custom Shop Fender Telecaster ($2250 value)<BR>Chance to win a New Bob Long Rapper paintball gun&nbsp\; ($1100 value)<BR></FONT></DIV></DIV>
LOCATION:
UID:e.2096.409
SEQUENCE:3
DTSTAMP:20260425T120552Z
URL:https://network.garlandchamber.com/events/details/sidewalk-sale-up-to-70-off-06-23-2007-409
END:VEVENT

END:VCALENDAR
