BEGIN:VCALENDAR
VERSION:2.0
PRODID:-//ChamberMaster//Event Calendar 2.0//EN
METHOD:PUBLISH
X-PUBLISHED-TTL:P3D
REFRESH-INTERVAL:P3D
CALSCALE:GREGORIAN
BEGIN:VEVENT
DTSTART:20130604T160000Z
DTEND:20130604T180000Z
X-MICROSOFT-CDO-ALLDAYEVENT:FALSE
SUMMARY:Six Steps to a Better Business
DESCRIPTION:Presented by Trey Finley\, ActionCOACHContact Trey at (972) 979-3761 for more information or to RSVPFeel free to bring your lunch with you to the seminar.
X-ALT-DESC;FMTTYPE=text/html:<P>Presented by Trey Finley\, ActionCOACH</P><P>Contact Trey at (972) 979-3761 for more information or to RSVP</P><P>Feel free to bring your lunch with you to the seminar.</P>
LOCATION:Garland Chamber of Commerce
UID:e.2096.1180
SEQUENCE:3
DTSTAMP:20260421T073705Z
URL:https://network.garlandchamber.com/events/details/six-steps-to-a-better-business-06-04-2013-1180
END:VEVENT

END:VCALENDAR
