BEGIN:VCALENDAR
VERSION:2.0
PRODID:-//ChamberMaster//Event Calendar 2.0//EN
METHOD:PUBLISH
X-PUBLISHED-TTL:P3D
REFRESH-INTERVAL:P3D
CALSCALE:GREGORIAN
BEGIN:VEVENT
DTSTART:20090211T193000Z
DTEND:20090211T060000Z
X-MICROSOFT-CDO-ALLDAYEVENT:FALSE
SUMMARY:Smile Professionals of Texas Open House & Ribbon Cutting
DESCRIPTION:
X-ALT-DESC;FMTTYPE=text/html:
LOCATION:Smile Professionals of Texas
UID:e.2096.615
SEQUENCE:3
DTSTAMP:20260424T080325Z
URL:https://network.garlandchamber.com/events/details/smile-professionals-of-texas-open-house-ribbon-cutting-02-11-2009-615
END:VEVENT

END:VCALENDAR
