BEGIN:VCALENDAR
VERSION:2.0
PRODID:-//ChamberMaster//Event Calendar 2.0//EN
METHOD:PUBLISH
X-PUBLISHED-TTL:P3D
REFRESH-INTERVAL:P3D
CALSCALE:GREGORIAN
BEGIN:VEVENT
DTSTART:20130521T140000Z
DTEND:20130521T160000Z
X-MICROSOFT-CDO-ALLDAYEVENT:FALSE
SUMMARY:Social Media Marketing & Facebook for Business
DESCRIPTION:CLICK HERE TO REGISTER(seating limited to 100 attendees)In just 90 minutes\, this information-packed seminar will review the essential strategies and best practices a business or organization should understand to successfully get started with social media marketing. The seminar will cover: * What social media marketing really is and why it's important\; * 28 Facebook Tips for Business * Various social media networks and tools: how they interact\, ways to leverage their strengths\, and how to evaluate them for best use for your organization\; * How businesses are using social media to gain visibility\, develop relationships\, drive sales and engagement\; * How to incorporate social media marketing into your business life without losing productivity.  * Run promotions and offers on your Facebook business page that turn fans into customers so you can increase business.   * Learn how to Run a Sweepstakes or Offer a Coupon to your fans and grow your email list. They'll share your page with their friends\, and you'll get new guests.
X-ALT-DESC;FMTTYPE=text/html:<DIV style="FONT-FAMILY: Arial"><P style="MARGIN: 0in 0in 0pt"><A dataFld=0:0 href="https://events.r20.constantcontact.com/register/eventReg?oeidk=a07e7gnda1v2d3ce54d&amp\;oseq=&amp\;c=&amp\;ch="><STRONG>CLICK HERE TO REGISTER</STRONG></A></SPAN></P><P style="MARGIN: 0in 0in 0pt">(seating limited to 100 attendees)</P><P style="MARGIN: 0in 0in 0pt"></SPAN></P><P style="MARGIN: 0in 0in 0pt"></SPAN></P><P style="MARGIN: 0in 0in 0pt">In just 90 minutes\, this information-packed seminar will review the essential strategies and best practices a business or organization should understand to successfully get started with social media marketing. The seminar will cover:<?xml:namespace prefix = o ns = "urn:schemas-microsoft-com:office:office" /><o:p></o:p></SPAN></P><P style="MARGIN: 0in 0in 0pt">&nbsp\;<o:p></o:p></SPAN></P><P style="MARGIN: 0in 0in 0pt">* What social media marketing really is and why it's important\;<o:p></o:p></SPAN></P><P style="MARGIN: 0in 0in 0pt">&nbsp\;<o:p></o:p></SPAN></P><P style="MARGIN: 0in 0in 0pt">* 28 Facebook Tips for Business<o:p></o:p></SPAN></P><P style="MARGIN: 0in 0in 0pt">&nbsp\;<o:p></o:p></SPAN></P><P style="MARGIN: 0in 0in 0pt">* Various social media networks and tools: how they interact\, ways to leverage their strengths\, and how to evaluate them for best use for your organization\;<o:p></o:p></SPAN></P><P style="MARGIN: 0in 0in 0pt">&nbsp\;<o:p></o:p></SPAN></P><P style="MARGIN: 0in 0in 0pt">* How businesses are using social media to gain visibility\, develop relationships\, drive sales and engagement\;<o:p></o:p></SPAN></P><P style="MARGIN: 0in 0in 0pt">&nbsp\;<o:p></o:p></SPAN></P><P style="MARGIN: 0in 0in 0pt" class=MsoNormal>* How to incorporate social media marketing into your business life without losing productivity.<o:p></o:p></SPAN></P><P style="MARGIN: 0in 0in 0pt" class=MsoNormal>&nbsp\;&nbsp\;<o:p></o:p></SPAN></P><P style="MARGIN: 0in 0in 0pt" class=MsoNormal>* Run promotions and offers on your Facebook business page that turn fans into customers so you can increase business. <o:p></o:p></SPAN></P><P style="MARGIN: 0in 0in 0pt" class=MsoNormal>&nbsp\;&nbsp\;<o:p></o:p></SPAN></P>* Learn how to Run a Sweepstakes or Offer a Coupon to your fans and grow your email list. They'll share your page with their friends\, and you'll get new guests.</SPAN></DIV>
LOCATION:Richland College Garland Campus
UID:e.2096.1188
SEQUENCE:3
DTSTAMP:20260421T074020Z
URL:https://network.garlandchamber.com/events/details/social-media-marketing-facebook-for-business-05-21-2013-1188
END:VEVENT

END:VCALENDAR
