BEGIN:VCALENDAR
VERSION:2.0
PRODID:-//ChamberMaster//Event Calendar 2.0//EN
METHOD:PUBLISH
X-PUBLISHED-TTL:P3D
REFRESH-INTERVAL:P3D
CALSCALE:GREGORIAN
BEGIN:VEVENT
DTSTART:20120915T140000Z
DTEND:20120915T220000Z
X-MICROSOFT-CDO-ALLDAYEVENT:FALSE
SUMMARY:Spa Day at Whole Health Chiropractic
DESCRIPTION:Whole Health Chiropractic Presents its 6th Annual Spa DayGive Back Locally to Give Back Globally For a $40 donation\, participants will receive: AdjustmentMassageParaffin Foot BathHealth ScreeningFacials Proceeds support the G.R.A.C.E. Now mission trip to Ethiopia Reserve your time by calling (972) 530-2273 See the Event Flyer
X-ALT-DESC;FMTTYPE=text/html:<DIV style="FONT-FAMILY: Arial">Whole Health Chiropractic Presents its 6th Annual Spa Day</DIV><DIV style="FONT-FAMILY: Arial"><EM>Give Back Locally to Give Back Globally</EM></DIV><DIV style="FONT-FAMILY: Arial"><EM></EM>&nbsp\;</DIV><DIV style="FONT-FAMILY: Arial">For a $40 donation\, participants will receive:</DIV><DIV style="FONT-FAMILY: Arial">&nbsp\;</DIV><DIV style="FONT-FAMILY: Arial">Adjustment</DIV><DIV style="FONT-FAMILY: Arial">Massage</DIV><DIV style="FONT-FAMILY: Arial">Paraffin Foot Bath</DIV><DIV style="FONT-FAMILY: Arial">Health Screening</DIV><DIV style="FONT-FAMILY: Arial">Facials</DIV><DIV style="FONT-FAMILY: Arial">&nbsp\;</DIV><DIV style="FONT-FAMILY: Arial">Proceeds support the G.R.A.C.E. Now mission trip to Ethiopia</DIV><DIV style="FONT-FAMILY: Arial">&nbsp\;</DIV><DIV style="FONT-FAMILY: Arial">Reserve your time by calling (972) 530-2273</DIV><DIV style="FONT-FAMILY: Arial">&nbsp\;</DIV><DIV style="FONT-FAMILY: Arial"><A dataFld=0:0 href="http://www.garlandchamber.com/images/stories/chamber/Member%20Promotions/Spa%20Day%202012.pdf">See the Event Flyer</A></DIV>
LOCATION:Whole Health Chiropractic
UID:e.2096.1079
SEQUENCE:3
DTSTAMP:20260421T204736Z
URL:https://network.garlandchamber.com/events/details/spa-day-at-whole-health-chiropractic-09-15-2012-1079
END:VEVENT

END:VCALENDAR
