BEGIN:VCALENDAR
VERSION:2.0
PRODID:-//ChamberMaster//Event Calendar 2.0//EN
METHOD:PUBLISH
X-PUBLISHED-TTL:P3D
REFRESH-INTERVAL:P3D
CALSCALE:GREGORIAN
BEGIN:VEVENT
DTSTART:20100424T170000Z
DTEND:20100424T200000Z
X-MICROSOFT-CDO-ALLDAYEVENT:FALSE
SUMMARY:Space Walk Family Fun Day
DESCRIPTION:
X-ALT-DESC;FMTTYPE=text/html:
LOCATION:Rick Ogden Park
UID:e.2096.660
SEQUENCE:3
DTSTAMP:20260423T121139Z
URL:https://network.garlandchamber.com/events/details/space-walk-family-fun-day-04-24-2010-660
END:VEVENT

END:VCALENDAR
