BEGIN:VCALENDAR
VERSION:2.0
PRODID:-//ChamberMaster//Event Calendar 2.0//EN
METHOD:PUBLISH
X-PUBLISHED-TTL:P3D
REFRESH-INTERVAL:P3D
CALSCALE:GREGORIAN
BEGIN:VEVENT
DTSTART:20220425T163000Z
DTEND:20220425T180000Z
X-MICROSOFT-CDO-ALLDAYEVENT:FALSE
SUMMARY:SPARK April 2022
DESCRIPTION:Sponsor: Texas Security Bank\n\nTopic: The Business Case for Cultural Competence\n\nSpeaker: LaShon Ross | City of Plano\, Director of Human Resources/Risk Management
X-ALT-DESC;FMTTYPE=text/html:<span style="font-size:14px\;"><span style="color:#00704A\;"><strong>Sponsor: </strong></span>Texas Security Bank<br />\n<span style="color:#00704A\;"><strong>Topic:</strong> </span>The Business Case for Cultural Competence<br />\n<span style="color:#00704A\;"><strong>Speaker:</strong></span></span><span style="color:#00704A\;"><strong> </strong></span><span style="font-family:arial\;">LaShon Ross | City of Plano\, Director of Human Resources/Risk Management</span><br />\n&nbsp\;
LOCATION:Hybrid | Zoom Communications Dallas College Garland Center 675 W. Walnut St. Garland\, TX 75040
UID:e.2096.3710
SEQUENCE:3
DTSTAMP:20260423T103732Z
URL:https://network.garlandchamber.com/events/details/spark-april-2022-3710
END:VEVENT

END:VCALENDAR
