BEGIN:VCALENDAR
VERSION:2.0
PRODID:-//ChamberMaster//Event Calendar 2.0//EN
METHOD:PUBLISH
X-PUBLISHED-TTL:P3D
REFRESH-INTERVAL:P3D
CALSCALE:GREGORIAN
BEGIN:VEVENT
DTSTART:20201026T163000Z
DTEND:20201026T180000Z
X-MICROSOFT-CDO-ALLDAYEVENT:FALSE
SUMMARY:SPARK On-the-Go October 2020
DESCRIPTION:Sponsor: Frost Bank\n\nTopic: 7 Steps Towards Open Conversations Around Race and Diversity \n\nSpeaker: Jeff Willie
X-ALT-DESC;FMTTYPE=text/html:<span style="font-size:14px\;"><span style="color:#00704A\;"><strong>Sponsor: </strong></span><a href="https://www.frostbank.com/">Frost Bank</a><br />\n<span style="color:#00704A\;"><strong>Topic:</strong>&nbsp\;</span>7 Steps Towards Open Conversations Around Race and Diversity&nbsp\;<br />\n<span style="color:#00704A\;"><strong>Speaker: </strong></span>Jeff Willie</span><br />\n&nbsp\;
LOCATION:Virtual: Zoom Communications
UID:e.2096.3534
SEQUENCE:3
DTSTAMP:20260420T182150Z
URL:https://network.garlandchamber.com/events/details/spark-on-the-go-october-2020-3534
END:VEVENT

END:VCALENDAR
