BEGIN:VCALENDAR
VERSION:2.0
PRODID:-//ChamberMaster//Event Calendar 2.0//EN
METHOD:PUBLISH
X-PUBLISHED-TTL:P3D
REFRESH-INTERVAL:P3D
CALSCALE:GREGORIAN
BEGIN:VEVENT
DTSTART:20070101T060000Z
DTEND:20070101T060000Z
X-MICROSOFT-CDO-ALLDAYEVENT:FALSE
SUMMARY:Sponsors for 2007 Luncheons
DESCRIPTION:Sponsors for 2007 Luncheons
X-ALT-DESC;FMTTYPE=text/html:Sponsors for 2007 Luncheons
LOCATION:
UID:e.2096.1664
SEQUENCE:3
DTSTAMP:20260425T210201Z
URL:https://network.garlandchamber.com/events/details/sponsors-for-2007-luncheons-01-01-2007-1664
END:VEVENT

END:VCALENDAR
