BEGIN:VCALENDAR
VERSION:2.0
PRODID:-//ChamberMaster//Event Calendar 2.0//EN
METHOD:PUBLISH
X-PUBLISHED-TTL:P3D
REFRESH-INTERVAL:P3D
CALSCALE:GREGORIAN
BEGIN:VEVENT
DTSTART:20100101T173000Z
DTEND:20101231T190000Z
X-MICROSOFT-CDO-ALLDAYEVENT:FALSE
SUMMARY:Sponsors for 2010 Luncheons
DESCRIPTION:
X-ALT-DESC;FMTTYPE=text/html:
LOCATION:The Atrium at the Granville
UID:e.2096.686
SEQUENCE:3
DTSTAMP:20260423T010515Z
URL:https://network.garlandchamber.com/events/details/sponsors-for-2010-luncheons-01-01-2010-686
END:VEVENT

END:VCALENDAR
