BEGIN:VCALENDAR
VERSION:2.0
PRODID:-//ChamberMaster//Event Calendar 2.0//EN
METHOD:PUBLISH
X-PUBLISHED-TTL:P3D
REFRESH-INTERVAL:P3D
CALSCALE:GREGORIAN
BEGIN:VEVENT
DTSTART:20110101T173000Z
DTEND:20111231T190000Z
X-MICROSOFT-CDO-ALLDAYEVENT:FALSE
SUMMARY:Sponsors for 2011 Luncheons
DESCRIPTION:
X-ALT-DESC;FMTTYPE=text/html:
LOCATION:The Atrium at the Granville
UID:e.2096.844
SEQUENCE:3
DTSTAMP:20260422T075449Z
URL:https://network.garlandchamber.com/events/details/sponsors-for-2011-luncheons-01-01-2011-844
END:VEVENT

END:VCALENDAR
