BEGIN:VCALENDAR
VERSION:2.0
PRODID:-//ChamberMaster//Event Calendar 2.0//EN
METHOD:PUBLISH
X-PUBLISHED-TTL:P3D
REFRESH-INTERVAL:P3D
CALSCALE:GREGORIAN
BEGIN:VEVENT
DTSTART:20120413T210000Z
DTEND:20120414T020000Z
X-MICROSOFT-CDO-ALLDAYEVENT:FALSE
SUMMARY:Spring Bridal Event
DESCRIPTION:The Dream.Plan.IDo! Spring Bridal Event is complimentary for all Brides and two of their guests. Brides will have the opportunity to meet a variety of talented wedding professionals. We have the evening setup with certain wedding experiences being demonstrated such as the cake cutting\, first dance\,and bouquet toss! Plus\, there will be giveaways given throughout the evening!! \n\nPre-Register at http://dreamplanido.blogspot.com/p/register.html!
X-ALT-DESC;FMTTYPE=text/html:The Dream.Plan.IDo! Spring Bridal Event is complimentary for all Brides and two of their guests. Brides will have the opportunity to meet a variety of talented wedding professionals. We have the evening setup with certain wedding experiences being demonstrated such as the cake cutting\, first dance\,and bouquet toss! Plus\, there will be giveaways given throughout the evening!! \n\nPre-Register at http://dreamplanido.blogspot.com/p/register.html!
LOCATION:Eastern Hills Country Club
UID:e.2096.10
SEQUENCE:3
DTSTAMP:20260422T022841Z
URL:https://network.garlandchamber.com/events/details/spring-bridal-event-04-13-2012-10
END:VEVENT

END:VCALENDAR
