BEGIN:VCALENDAR
VERSION:2.0
PRODID:-//ChamberMaster//Event Calendar 2.0//EN
METHOD:PUBLISH
X-PUBLISHED-TTL:P3D
REFRESH-INTERVAL:P3D
CALSCALE:GREGORIAN
BEGIN:VEVENT
DTSTART:20070407T140000Z
DTEND:20070407T170000Z
X-MICROSOFT-CDO-ALLDAYEVENT:FALSE
SUMMARY:Spring Creek Park Reserve Clean Up
DESCRIPTION:PRESERVE CLEAN-UPLEADERSHIP GARLAND VOLUNTEERS NEEDED! Date:          Saturday\, April 7\, 2007Time:                   9:00 a.m. – NoonLocation:    Spring Creek PARK Preserve                    1787 Holford\, Garland 75044Contact:     Barbara Baynham at 214-542-1244 orDon Baynham at 214-287-7948 Directions:      If traveling on 190\, take the Holford Road exit.  Travel South on Holford.  Just after crossing the bridge\, turn right into the Preserve parking lot at 1787 Holford.  If traveling on Shiloh Road\, take Arapaho Road east.  Turn north on Holford Road.  After the fire station\, turn left into the Preserve parking lot at 1787 Holford. Job:     Clear the prairie at 1787 Holford of small trees and bushes that are encroaching on the meadows.  Some people will fell the trees and cut bushes\; most people will drag the trees and brush off the prairie to the designated spot.            Required clothing:    Sturdy shoes with no open toes\; heavy work gloves Suggested clothing:   Long-sleeved shirt and long pants.  Reason:  Some of the brush to be removed has thorns that are 1”-2” long.  There are patches of poison ivy.  There are fire-ant mounds. Tools:  If you have them\, please bring small saws\, small chain saws\, loppers.  Please do NOT purchase any tools specifically for this job.                 There will be plenty for everyone to do. Snack and light lunch provided! So\, don your pioneer spirit and join us for a morning of hard work\, camaraderie and fun!!!  www.garlandchamber.com Leadership Garland/Alumni Organization
X-ALT-DESC;FMTTYPE=text/html:<DIV><P class=MsoNormal style="MARGIN: 0in 0in 0pt\; TEXT-ALIGN: center" align=center><FONT face="Times New Roman"><B style="mso-bidi-font-weight: normal"><SPAN style="FONT-SIZE: 18pt\; COLOR: #339966">PRESERVE CLEAN-UP<?xml:namespace prefix = o ns = "urn:schemas-microsoft-com:office:office" /><o:p></o:p></SPAN></B></FONT></P><P class=MsoNormal style="MARGIN: 0in 0in 0pt\; TEXT-ALIGN: center" align=center><FONT face="Times New Roman"><B style="mso-bidi-font-weight: normal"><SPAN style="FONT-SIZE: 16pt">LEADERSHIP </SPAN></B><?xml:namespace prefix = st1 ns = "urn:schemas-microsoft-com:office:smarttags" /><st1:City><st1:place><B style="mso-bidi-font-weight: normal"><SPAN style="FONT-SIZE: 16pt">GARLAND</SPAN></B></st1:place></st1:City><B style="mso-bidi-font-weight: normal"><SPAN style="FONT-SIZE: 16pt"> VOLUNTEERS NEEDED!<o:p></o:p></SPAN></B></FONT></P><P class=MsoNormal style="MARGIN: 0in 0in 0pt\; TEXT-ALIGN: center" align=center><B style="mso-bidi-font-weight: normal"><SPAN style="FONT-SIZE: 16pt"><o:p><FONT face="Times New Roman" size=2>&nbsp\;</FONT></o:p></SPAN></B></P><P class=MsoNormal style="MARGIN: 0in 0in 0pt"><FONT face="Times New Roman"><FONT size=2><B style="mso-bidi-font-weight: normal"><SPAN style="FONT-SIZE: 14pt">Date:<SPAN style="mso-tab-count: 2">&nbsp\;&nbsp\;&nbsp\;&nbsp\;&nbsp\;&nbsp\;&nbsp\;&nbsp\;&nbsp\; </SPAN></SPAN></B><st1:date Month="4" Day="7" Year="2007"><SPAN style="FONT-SIZE: 14pt">Saturday\, April 7\, 2007</SPAN></st1:date><SPAN style="FONT-SIZE: 14pt"><o:p></o:p></SPAN></FONT></FONT></P><P class=MsoNormal style="MARGIN: 0in 0in 0pt"><FONT face="Times New Roman"><FONT size=2><B style="mso-bidi-font-weight: normal"><SPAN style="FONT-SIZE: 14pt">Time:<SPAN style="mso-tab-count: 2">&nbsp\;&nbsp\;&nbsp\;&nbsp\;&nbsp\;&nbsp\;&nbsp\;&nbsp\;&nbsp\;&nbsp\;&nbsp\;&nbsp\;&nbsp\;&nbsp\;&nbsp\;&nbsp\;&nbsp\;&nbsp\; </SPAN></SPAN></B><st1:time Hour="9" Minute="0"><SPAN style="FONT-SIZE: 14pt">9:00 a.m.</SPAN></st1:time><SPAN style="FONT-SIZE: 14pt"> – </SPAN><st1:time Hour="12" Minute="0"><SPAN style="FONT-SIZE: 14pt">Noon</SPAN></st1:time><SPAN style="FONT-SIZE: 14pt"><o:p></o:p></SPAN></FONT></FONT></P><P class=MsoNormal style="MARGIN: 0in 0in 0pt"><FONT face="Times New Roman"><FONT size=2><B style="mso-bidi-font-weight: normal"><SPAN style="FONT-SIZE: 14pt">Location:<SPAN style="mso-tab-count: 1">&nbsp\;&nbsp\;&nbsp\; </SPAN></SPAN></B><st1:place><st1:PlaceType><SPAN style="FONT-SIZE: 14pt">Spring</SPAN></st1:PlaceType><SPAN style="FONT-SIZE: 14pt"> </SPAN><st1:PlaceType><SPAN style="FONT-SIZE: 14pt">Creek</SPAN></st1:PlaceType><SPAN style="FONT-SIZE: 14pt"> </SPAN><st1:PlaceType><SPAN style="FONT-SIZE: 14pt">PARK</SPAN></st1:PlaceType></st1:place><SPAN style="FONT-SIZE: 14pt"> Preserve </SPAN></FONT></FONT></P><P class=MsoNormal style="MARGIN: 0in 0in 0pt"><FONT face="Times New Roman"><FONT size=2><SPAN style="FONT-SIZE: 14pt">&nbsp\;&nbsp\;&nbsp\;&nbsp\;&nbsp\;&nbsp\;&nbsp\;&nbsp\;&nbsp\;&nbsp\;&nbsp\;&nbsp\;&nbsp\;&nbsp\;&nbsp\;&nbsp\;&nbsp\;&nbsp\; 1787 Holford\, </SPAN><st1:City><st1:place><SPAN style="FONT-SIZE: 14pt">Garland 75044</SPAN></st1:place></st1:City><SPAN style="FONT-SIZE: 14pt"><o:p></o:p></SPAN></FONT></FONT></P><P class=MsoNormal style="MARGIN: 0in 0in 0pt"><FONT face="Times New Roman"><FONT size=2><B style="mso-bidi-font-weight: normal"><SPAN style="FONT-SIZE: 14pt">Contact:<SPAN style="mso-tab-count: 1">&nbsp\;&nbsp\;&nbsp\;&nbsp\; </SPAN></SPAN></B><st1:PersonName><SPAN style="FONT-SIZE: 14pt">Barbara Baynham</SPAN></st1:PersonName><SPAN style="FONT-SIZE: 14pt">&nbsp\;at 214-542-1244 or<o:p></o:p></SPAN></FONT></FONT></P><P class=MsoNormal style="MARGIN: 0in 0in 0pt 0.5in\; TEXT-INDENT: 0.5in"><FONT face="Times New Roman"><FONT size=2><st1:PersonName><SPAN style="FONT-SIZE: 14pt">Don Baynham</SPAN></st1:PersonName><SPAN style="FONT-SIZE: 14pt">&nbsp\;at 214-287-7948<B style="mso-bidi-font-weight: normal"><o:p></o:p></B></SPAN></FONT></FONT></P><P class=MsoNormal style="MARGIN: 0in 0in 0pt"><SPAN style="FONT-SIZE: 14pt"><o:p><FONT face="Times New Roman">&nbsp\;</FONT></o:p></SPAN></P><P class=MsoNormal style="MARGIN: 0in 0in 0pt 0.5in\; TEXT-INDENT: -0.5in"><FONT face="Times New Roman"><B style="mso-bidi-font-weight: normal">Directions:<SPAN style="mso-tab-count: 1">&nbsp\;&nbsp\;&nbsp\;&nbsp\;&nbsp\; </SPAN></B>If traveling on 190\, take the <st1:Street><st1:address>Holford Road</st1:address></st1:Street> exit.<SPAN style="mso-spacerun: yes">&nbsp\; </SPAN>Travel South on Holford.<SPAN style="mso-spacerun: yes">&nbsp\; </SPAN>Just after crossing the bridge\, turn right into the Preserve parking lot at 1787 Holford.<SPAN style="mso-spacerun: yes">&nbsp\; </SPAN>If traveling on <st1:Street><st1:address>Shiloh Road</st1:address></st1:Street>\, take <st1:Street><st1:address>Arapaho Road east</st1:address></st1:Street>.<SPAN style="mso-spacerun: yes">&nbsp\; </SPAN>Turn north on <st1:Street><st1:address>Holford Road</st1:address></st1:Street>.<SPAN style="mso-spacerun: yes">&nbsp\; </SPAN>After the fire station\, turn left into the Preserve parking lot at 1787 Holford.<o:p></o:p></FONT></P><P class=MsoNormal style="MARGIN: 0in 0in 0pt"><o:p><FONT face="Times New Roman">&nbsp\;</FONT></o:p></P><P class=MsoNormal style="MARGIN: 0in 0in 0pt 0.5in\; TEXT-INDENT: -0.5in"><FONT face="Times New Roman"><B style="mso-bidi-font-weight: normal">Job:<SPAN style="mso-tab-count: 1">&nbsp\;&nbsp\;&nbsp\;&nbsp\; </SPAN></B>Clear the prairie at 1787 Holford of small trees and bushes that are encroaching on the meadows.<SPAN style="mso-spacerun: yes">&nbsp\; </SPAN>Some people will fell the trees and cut bushes\; most people will drag the trees and brush off the prairie to the designated spot.<o:p></o:p></FONT></P><P class=MsoNormal style="MARGIN: 0in 0in 0pt"><FONT face="Times New Roman"><B style="mso-bidi-font-weight: normal"><SPAN style="mso-tab-count: 1">&nbsp\;&nbsp\;&nbsp\;&nbsp\;&nbsp\;&nbsp\;&nbsp\;&nbsp\;&nbsp\;&nbsp\;&nbsp\; </SPAN></B><o:p></o:p></FONT></P><P class=MsoNormal style="MARGIN: 0in 0in 0pt 0.5in\; TEXT-INDENT: -0.5in"><FONT face="Times New Roman"><B style="mso-bidi-font-weight: normal">Required clothing:<SPAN style="mso-spacerun: yes">&nbsp\;&nbsp\;&nbsp\; </SPAN></B>Sturdy shoes with no open toes\; heavy work gloves<o:p></o:p></FONT></P><P class=MsoNormal style="MARGIN: 0in 0in 0pt 0.5in\; TEXT-INDENT: -0.5in"><FONT face="Times New Roman"><B style="mso-bidi-font-weight: normal"></B></FONT>&nbsp\;</P><P class=MsoNormal style="MARGIN: 0in 0in 0pt 0.5in\; TEXT-INDENT: -0.5in"><FONT face="Times New Roman"><B style="mso-bidi-font-weight: normal">Suggested clothing:<SPAN style="mso-spacerun: yes">&nbsp\;&nbsp\; </SPAN></B>Long-sleeved shirt and long pants.<SPAN style="mso-spacerun: yes">&nbsp\; </SPAN>Reason:<SPAN style="mso-spacerun: yes">&nbsp\; </SPAN>Some of the brush to be removed has thorns that are 1”-2” long.<SPAN style="mso-spacerun: yes">&nbsp\; </SPAN>There are patches of poison ivy.<SPAN style="mso-spacerun: yes">&nbsp\; </SPAN>There are fire-ant mounds.<o:p></o:p></FONT></P><P class=MsoNormal style="MARGIN: 0in 0in 0pt"><FONT face="Times New Roman"><B style="mso-bidi-font-weight: normal"></B></FONT>&nbsp\;</P><P class=MsoNormal style="MARGIN: 0in 0in 0pt"><FONT face="Times New Roman"><B style="mso-bidi-font-weight: normal">Tools:<SPAN style="mso-spacerun: yes">&nbsp\; </SPAN></B>If you have them\, please bring small saws\, small chain saws\, <o:p></o:p></FONT></P><P class=MsoNormal style="MARGIN: 0in 0in 0pt 0.5in"><FONT face="Times New Roman">loppers.<SPAN style="mso-spacerun: yes">&nbsp\; </SPAN>Please do NOT purchase any tools specifically for this job.<SPAN style="mso-spacerun: yes">&nbsp\;&nbsp\;</SPAN><SPAN style="mso-spacerun: yes">&nbsp\;&nbsp\;&nbsp\;&nbsp\;&nbsp\;&nbsp\;&nbsp\;&nbsp\;&nbsp\;&nbsp\;&nbsp\;&nbsp\;&nbsp\;&nbsp\;&nbsp\;</SPAN></FONT></P><P class=MsoNormal style="MARGIN: 0in 0in 0pt 0.5in"><FONT face="Times New Roman"><SPAN style="mso-spacerun: yes"></SPAN>There will be plenty for everyone to do.<o:p></o:p></FONT></P><P class=MsoNormal style="MARGIN: 0in 0in 0pt 0.5in\; TEXT-INDENT: -0.5in"><o:p><FONT face="Times New Roman">&nbsp\;</FONT></o:p></P><P class=MsoNormal style="MARGIN: 0in 0in 0pt 0.5in\; TEXT-INDENT: -0.5in\; TEXT-ALIGN: center" align=center><B style="mso-bidi-font-weight: normal"><SPAN style="COLOR: red"><FONT face="Times New Roman">Snack and light lunch provided!<o:p></o:p></FONT></SPAN></B></P><P class=MsoNormal style="MARGIN: 0in 0in 0pt 0.5in\; TEXT-INDENT: -0.5in\; TEXT-ALIGN: center" align=center><B style="mso-bidi-font-weight: normal"><SPAN style="COLOR: red"><o:p><FONT face="Times New Roman">&nbsp\;</FONT></o:p></SPAN></B></P><P class=MsoNormal style="MARGIN: 0in 0in 0pt 0.5in\; TEXT-INDENT: -0.5in\; TEXT-ALIGN: center" align=center><SPAN style="FONT-SIZE: 14pt"><FONT face="Times New Roman">So\, don your pioneer spirit and join us for a morning of hard work\, camaraderie and fun!!!<o:p></o:p></FONT></SPAN></P><P class=MsoNormal style="MARGIN: 0in 0in 0pt 0.5in\; TEXT-INDENT: -0.5in\; TEXT-ALIGN: center" align=center><SPAN style="FONT-SIZE: 14pt"><o:p><FONT face="Times New Roman">&nbsp\;</FONT></o:p></SPAN></P><P class=MsoNormal style="MARGIN: 0in 0in 0pt 0.5in\; TEXT-INDENT: -0.5in\; TEXT-ALIGN: center" align=center><o:p><FONT face="Times New Roman">&nbsp\;</FONT></o:p></P><P class=MsoNormal style="MARGIN: 0in 0in 0pt 0.5in\; TEXT-INDENT: -0.5in\; TEXT-ALIGN: center" align=center><SPAN style="FONT-SIZE: 10pt"><A href="http://www.garlandchamber.com/"><FONT face="Times New Roman" color=#800080>www.garlandchamber.com</FONT></A><FONT face="Times New Roman"> <o:p></o:p></FONT></SPAN></P><P class=MsoNormal style="MARGIN: 0in 0in 0pt 0.5in\; TEXT-INDENT: -0.5in\; TEXT-ALIGN: center" align=center><SPAN style="FONT-SIZE: 10pt"><FONT face="Times New Roman">Leadership Garland/Alumni Organization<o:p></o:p></FONT></SPAN></P></DIV>
LOCATION:Spring Creek Park Reserve
UID:e.2096.381
SEQUENCE:3
DTSTAMP:20260425T153346Z
URL:https://network.garlandchamber.com/events/details/spring-creek-park-reserve-clean-up-04-07-2007-381
END:VEVENT

END:VCALENDAR
