BEGIN:VCALENDAR
VERSION:2.0
PRODID:-//ChamberMaster//Event Calendar 2.0//EN
METHOD:PUBLISH
X-PUBLISHED-TTL:P3D
REFRESH-INTERVAL:P3D
CALSCALE:GREGORIAN
BEGIN:VEVENT
DTSTART:20070308T160000Z
DTEND:20070308T200000Z
X-MICROSOFT-CDO-ALLDAYEVENT:FALSE
SUMMARY:Spring Job Fair
DESCRIPTION:More than fifty companies with positions to fill will be on-hand to accept resumes and applications.Bring plenty of resumes and dress to interview.
X-ALT-DESC;FMTTYPE=text/html:More than fifty companies with positions to fill will be on-hand to accept resumes and applications.Bring plenty of resumes and dress to interview.
LOCATION:Eastfield College
UID:e.2096.26
SEQUENCE:3
DTSTAMP:20260425T162809Z
URL:https://network.garlandchamber.com/events/details/spring-job-fair-03-08-2007-26
END:VEVENT

END:VCALENDAR
