BEGIN:VCALENDAR
VERSION:2.0
PRODID:-//ChamberMaster//Event Calendar 2.0//EN
METHOD:PUBLISH
X-PUBLISHED-TTL:P3D
REFRESH-INTERVAL:P3D
CALSCALE:GREGORIAN
BEGIN:VEVENT
DTSTART:20130426T160000Z
DTEND:20130428T230000Z
X-MICROSOFT-CDO-ALLDAYEVENT:FALSE
SUMMARY:Spring Taste of Sam's Club
DESCRIPTION:
X-ALT-DESC;FMTTYPE=text/html:
LOCATION:Sam's Club
UID:e.2096.1183
SEQUENCE:3
DTSTAMP:20260421T090241Z
URL:https://network.garlandchamber.com/events/details/spring-taste-of-sam-s-club-04-26-2013-1183
END:VEVENT

END:VCALENDAR
