BEGIN:VCALENDAR
VERSION:2.0
PRODID:-//ChamberMaster//Event Calendar 2.0//EN
METHOD:PUBLISH
X-PUBLISHED-TTL:P3D
REFRESH-INTERVAL:P3D
CALSCALE:GREGORIAN
BEGIN:VEVENT
DTSTART:20130413T130000Z
DTEND:20130413T170000Z
X-MICROSOFT-CDO-ALLDAYEVENT:FALSE
SUMMARY:Spring Trash Off
DESCRIPTION:Keep Garland Beautiful sponsors the annual spring Don't Mess with Texas Trash-Off\, a program supported by Texas Department of Transportation and Keep America Beautiful's Great American Cleanup.Click here for the April 13\, 2013 Registration FormCommunity volunteers pick up litter around Garland's neighborhoods\, parks\, schools and roadways.Learn more about the Don't Mess with Texas ProgramVisit the Keep Garland Beautiful Website
X-ALT-DESC;FMTTYPE=text/html:<P>Keep Garland Beautiful sponsors the annual spring <A dataFld=0:0 href="http://dontmesswithtexas.org/programs/trash-off/">Don't Mess with Texas Trash-Off</A>\, a program supported by Texas Department of Transportation and Keep America Beautiful's Great American Cleanup.</P><P><A dataFld=0:0 href="http://www.garlandtx.gov/civicax/filebank/blobdload.aspx?blobid=8842">Click here for the April 13\, 2013 Registration Form</A></P><P>Community volunteers pick up litter around Garland's neighborhoods\, parks\, schools and roadways.</P><P>Learn more about the <A href="http://dontmesswithtexas.org/">Don't Mess with Texas Program</A></P><P><A dataFld=0:0 href="http://www.garlandtx.gov/gov/eg/ews/kgb/spring.asp">Visit the Keep Garland Beautiful Website</A> </P>
LOCATION:Granger Recreation Center (Annex)
UID:e.2096.1175
SEQUENCE:3
DTSTAMP:20260421T085707Z
URL:https://network.garlandchamber.com/events/details/spring-trash-off-04-13-2013-1175
END:VEVENT

END:VCALENDAR
