BEGIN:VCALENDAR
VERSION:2.0
PRODID:-//ChamberMaster//Event Calendar 2.0//EN
METHOD:PUBLISH
X-PUBLISHED-TTL:P3D
REFRESH-INTERVAL:P3D
CALSCALE:GREGORIAN
BEGIN:VEVENT
DTSTART:20120322T220000Z
DTEND:20120323T003000Z
X-MICROSOFT-CDO-ALLDAYEVENT:FALSE
SUMMARY:SpringHill Suites Grand Opening
DESCRIPTION:Join the staff and guests of SpringHill Suites for its Grand Opening celebration! There will be door prizes and food and beverages\, including carving stations\, a chocolate fountain and much more. Date: March 22\, 2012Time: 5 - 7:30 p.m.Location: SpringHill SuitesAddress: 3251 E. George Bush Turnpike\, Richardson\, TX 75082 The community is welcome to attend. Please RSVP to lyn.tyler@marriott.com Check out the newest hotel in the area online at http://www.marriott.com/hotels/travel/dalsr-springhill-suites-dallas-richardson-plano/
X-ALT-DESC;FMTTYPE=text/html:<DIV style="FONT-FAMILY: Arial">Join the staff and guests of SpringHill Suites for its Grand Opening celebration! There will be door prizes and&nbsp\;food and beverages\, including carving stations\, a chocolate fountain and much more.</DIV><DIV style="FONT-FAMILY: Arial">&nbsp\;</DIV><DIV style="FONT-FAMILY: Arial">Date: March 22\, 2012</DIV><DIV style="FONT-FAMILY: Arial">Time: 5 - 7:30 p.m.</DIV><DIV style="FONT-FAMILY: Arial">Location: SpringHill Suites</DIV><DIV style="FONT-FAMILY: Arial">Address: 3251 E. George Bush Turnpike\, Richardson\, TX 75082</DIV><DIV style="FONT-FAMILY: Arial">&nbsp\;</DIV><DIV style="FONT-FAMILY: Arial">The community is welcome to attend. Please RSVP to <A href="mailto:lyn.tyler@marriott.com">lyn.tyler@marriott.com</A></DIV><DIV style="FONT-FAMILY: Arial">&nbsp\;</DIV><DIV style="FONT-FAMILY: Arial">Check out the newest hotel in the area online at <A href="http://www.marriott.com/hotels/travel/dalsr-springhill-suites-dallas-richardson-plano/">http://www.marriott.com/hotels/travel/dalsr-springhill-suites-dallas-richardson-plano/</A></DIV>
LOCATION:SpringHill Suites
UID:e.2096.1007
SEQUENCE:3
DTSTAMP:20260422T035437Z
URL:https://network.garlandchamber.com/events/details/springhill-suites-grand-opening-03-22-2012-1007
END:VEVENT

END:VCALENDAR
