BEGIN:VCALENDAR
VERSION:2.0
PRODID:-//ChamberMaster//Event Calendar 2.0//EN
METHOD:PUBLISH
X-PUBLISHED-TTL:P3D
REFRESH-INTERVAL:P3D
CALSCALE:GREGORIAN
BEGIN:VEVENT
DTSTART:20080704T150000Z
DTEND:20080704T050000Z
X-MICROSOFT-CDO-ALLDAYEVENT:FALSE
SUMMARY:Star Spangled 4th Important Traffic Information
DESCRIPTION:
X-ALT-DESC;FMTTYPE=text/html:
LOCATION:Firewheel Town Center
UID:e.2096.554
SEQUENCE:3
DTSTAMP:20260424T171429Z
URL:https://network.garlandchamber.com/events/details/star-spangled-4th-important-traffic-information-07-04-2008-554
END:VEVENT

END:VCALENDAR
