BEGIN:VCALENDAR
VERSION:2.0
PRODID:-//ChamberMaster//Event Calendar 2.0//EN
METHOD:PUBLISH
X-PUBLISHED-TTL:P3D
REFRESH-INTERVAL:P3D
CALSCALE:GREGORIAN
BEGIN:VEVENT
DTSTART:20070630T050000Z
DTEND:20070704T050000Z
X-MICROSOFT-CDO-ALLDAYEVENT:FALSE
SUMMARY:Star Spangled Fourth
DESCRIPTION:
X-ALT-DESC;FMTTYPE=text/html:
LOCATION:
UID:e.2096.417
SEQUENCE:3
DTSTAMP:20260425T102109Z
URL:https://network.garlandchamber.com/events/details/star-spangled-fourth-06-30-2007-417
END:VEVENT

END:VCALENDAR
