BEGIN:VCALENDAR
VERSION:2.0
PRODID:-//ChamberMaster//Event Calendar 2.0//EN
METHOD:PUBLISH
X-PUBLISHED-TTL:P3D
REFRESH-INTERVAL:P3D
CALSCALE:GREGORIAN
BEGIN:VEVENT
DTSTART:20100703T210000Z
DTEND:20100704T020000Z
X-MICROSOFT-CDO-ALLDAYEVENT:FALSE
SUMMARY:Star Spangled Spectacular @ Firewheel Town Center
DESCRIPTION:
X-ALT-DESC;FMTTYPE=text/html:<DIV><SPAN style="FONT-SIZE: 10pt\; FONT-FAMILY: 'Times New Roman'\,'serif'\; mso-fareast-font-family: Calibri\; mso-fareast-theme-font: minor-latin\; mso-ansi-language: EN-US\; mso-fareast-language: EN-US\; mso-bidi-language: AR-SA"><FONT size=5></FONT></SPAN>&nbsp\;</DIV>
LOCATION:Firewheel Town Center
UID:e.2096.600
SEQUENCE:3
DTSTAMP:20260423T081332Z
URL:https://network.garlandchamber.com/events/details/star-spangled-spectacular-firewheel-town-center-07-03-2010-600
END:VEVENT

END:VCALENDAR
