BEGIN:VCALENDAR
VERSION:2.0
PRODID:-//ChamberMaster//Event Calendar 2.0//EN
METHOD:PUBLISH
X-PUBLISHED-TTL:P3D
REFRESH-INTERVAL:P3D
CALSCALE:GREGORIAN
BEGIN:VEVENT
DTSTART:20080207T200000Z
DTEND:20080207T060000Z
X-MICROSOFT-CDO-ALLDAYEVENT:FALSE
SUMMARY:Stoneleigh on Spring Creek Ribbon Cutting Celebration
DESCRIPTION:
X-ALT-DESC;FMTTYPE=text/html:
LOCATION:Stoneleigh on Spring Creek Apartments
UID:e.2096.498
SEQUENCE:3
DTSTAMP:20260425T002629Z
URL:https://network.garlandchamber.com/events/details/stoneleigh-on-spring-creek-ribbon-cutting-celebration-02-07-2008-498
END:VEVENT

END:VCALENDAR
