BEGIN:VCALENDAR
VERSION:2.0
PRODID:-//ChamberMaster//Event Calendar 2.0//EN
METHOD:PUBLISH
X-PUBLISHED-TTL:P3D
REFRESH-INTERVAL:P3D
CALSCALE:GREGORIAN
BEGIN:VEVENT
DTSTART:20080208T180000Z
DTEND:20080208T190000Z
X-MICROSOFT-CDO-ALLDAYEVENT:FALSE
SUMMARY:Stop by & pick-up your free 94.9 KLTY concert tickets today!
DESCRIPTION:
X-ALT-DESC;FMTTYPE=text/html:
LOCATION:Capital One Bank
UID:e.2096.501
SEQUENCE:3
DTSTAMP:20260425T003055Z
URL:https://network.garlandchamber.com/events/details/stop-by-pick-up-your-free-94-9-klty-concert-tickets-today-02-08-2008-501
END:VEVENT

END:VCALENDAR
