BEGIN:VCALENDAR
VERSION:2.0
PRODID:-//ChamberMaster//Event Calendar 2.0//EN
METHOD:PUBLISH
X-PUBLISHED-TTL:P3D
REFRESH-INTERVAL:P3D
CALSCALE:GREGORIAN
BEGIN:VEVENT
DTSTART:20120419T123000Z
DTEND:20120419T140000Z
X-MICROSOFT-CDO-ALLDAYEVENT:FALSE
SUMMARY:Strasburger Franchise Symposium
DESCRIPTION:7:30am to 8:00am -  Registration & Breakfast\n8:00am to 9:00am - Program\n\nPresenters:\nEarsa Jackson\nJason Barnes\nAnne Barr\nPaul Stewart\, \nSyreeta McDaniel\n\nâ€¢ Free parking available\nâ€¢ Please RSVP by Friday\, April 13 online at\n   www.dallasfranchisesymposium.eventbrite.com\nâ€¢ No cost to attend. Register today as space is limited.\nâ€¢ For more information\, visit www.strasburger.com/franchise
X-ALT-DESC;FMTTYPE=text/html:7:30am to 8:00am -  Registration & Breakfast\n8:00am to 9:00am - Program\n\nPresenters:\nEarsa Jackson\nJason Barnes\nAnne Barr\nPaul Stewart\, \nSyreeta McDaniel\n\nâ€¢ Free parking available\nâ€¢ Please RSVP by Friday\, April 13 online at\n   www.dallasfranchisesymposium.eventbrite.com\nâ€¢ No cost to attend. Register today as space is limited.\nâ€¢ For more information\, visit www.strasburger.com/franchise\n
LOCATION:SMU - Plano
UID:e.2096.8
SEQUENCE:3
DTSTAMP:20260422T023104Z
URL:https://network.garlandchamber.com/events/details/strasburger-franchise-symposium-04-19-2012-8
END:VEVENT

END:VCALENDAR
