BEGIN:VCALENDAR
VERSION:2.0
PRODID:-//ChamberMaster//Event Calendar 2.0//EN
METHOD:PUBLISH
X-PUBLISHED-TTL:P3D
REFRESH-INTERVAL:P3D
CALSCALE:GREGORIAN
BEGIN:VEVENT
DTSTART:20130425T203000Z
DTEND:20130425T220000Z
X-MICROSOFT-CDO-ALLDAYEVENT:FALSE
SUMMARY:Stress Seminar presented by Himmelsehr Chiropractic
DESCRIPTION:Himmelsehr Chiropractic will host a lecture on stress at the Garland Chamber on Thursday\, April 25\, 2013 from 3:30 to 5 p.m. Refreshments will be served. Please RSVP to (972) 272-8769. Limited to the first 40 people.
X-ALT-DESC;FMTTYPE=text/html:<DIV style="FONT-FAMILY: Arial">Himmelsehr Chiropractic will host a lecture on stress at the Garland Chamber on Thursday\, April 25\, 2013 from 3:30 to 5 p.m. Refreshments will be served.</DIV><DIV style="FONT-FAMILY: Arial">&nbsp\;</DIV><DIV style="FONT-FAMILY: Arial">Please RSVP to (972) 272-8769. Limited to the first 40 people.</DIV>
LOCATION:Garland Chamber of Commerce
UID:e.2096.1178
SEQUENCE:3
DTSTAMP:20260421T090149Z
URL:https://network.garlandchamber.com/events/details/stress-seminar-presented-by-himmelsehr-chiropractic-04-25-2013-1178
END:VEVENT

END:VCALENDAR
