BEGIN:VCALENDAR
VERSION:2.0
PRODID:-//ChamberMaster//Event Calendar 2.0//EN
METHOD:PUBLISH
X-PUBLISHED-TTL:P3D
REFRESH-INTERVAL:P3D
CALSCALE:GREGORIAN
BEGIN:VEVENT
DTSTART:20090422T140000Z
DTEND:20090422T210000Z
X-MICROSOFT-CDO-ALLDAYEVENT:FALSE
SUMMARY:Stroke and Cardiovascular Health Screening
DESCRIPTION:Our preventive health screenings test non-invasively via color doppler ultrasound for stroke and heart disease risk factors.
X-ALT-DESC;FMTTYPE=text/html:Our preventive health screenings test non-invasively via color doppler ultrasound for stroke and heart disease risk factors.
LOCATION:Garland Convention and Reception Center
UID:e.2096.19
SEQUENCE:3
DTSTAMP:20260424T063630Z
URL:https://network.garlandchamber.com/events/details/stroke-and-cardiovascular-health-screening-04-22-2009-19
END:VEVENT

END:VCALENDAR
