BEGIN:VCALENDAR
VERSION:2.0
PRODID:-//ChamberMaster//Event Calendar 2.0//EN
METHOD:PUBLISH
X-PUBLISHED-TTL:P3D
REFRESH-INTERVAL:P3D
CALSCALE:GREGORIAN
BEGIN:VEVENT
DTSTART:20120529T170000Z
DTEND:20120529T190000Z
X-MICROSOFT-CDO-ALLDAYEVENT:FALSE
SUMMARY:Success of Women Business Owners
DESCRIPTION:You're Invited! Citibank cordially invites you to Success of Women Business Owners Location: Ritz Carlton - Fearings Restaurant2121 McKinney Ave.\, Dallas\, TX 75201 Date: May 29\, 2012Time: Noon to 2 p.m. Seating is limited!Please contact Amy Hamilton at amy.hamilton@citi.com or (972) 530-2265 to RSVP.
X-ALT-DESC;FMTTYPE=text/html:<DIV style="FONT-FAMILY: Arial">You're Invited!</DIV><DIV style="FONT-FAMILY: Arial">&nbsp\;</DIV><DIV style="FONT-FAMILY: Arial">Citibank cordially invites you to Success of Women Business Owners</DIV><DIV style="FONT-FAMILY: Arial">&nbsp\;</DIV><DIV style="FONT-FAMILY: Arial">Location: Ritz Carlton - Fearings Restaurant</DIV><DIV style="FONT-FAMILY: Arial">2121 McKinney Ave.\, Dallas\, TX 75201</DIV><DIV style="FONT-FAMILY: Arial">&nbsp\;</DIV><DIV style="FONT-FAMILY: Arial">Date: May 29\, 2012</DIV><DIV style="FONT-FAMILY: Arial">Time: Noon to 2 p.m.</DIV><DIV style="FONT-FAMILY: Arial">&nbsp\;</DIV><DIV style="FONT-FAMILY: Arial">Seating is limited!</DIV><DIV style="FONT-FAMILY: Arial">Please contact Amy Hamilton at <A href="mailto:amy.hamilton@citi.com">amy.hamilton@citi.com</A> or (972) 530-2265 to RSVP.</DIV>
LOCATION:Ritz Carlton - Fearing Restaurant
UID:e.2096.1048
SEQUENCE:3
DTSTAMP:20260422T010618Z
URL:https://network.garlandchamber.com/events/details/success-of-women-business-owners-05-29-2012-1048
END:VEVENT

END:VCALENDAR
