BEGIN:VCALENDAR
VERSION:2.0
PRODID:-//ChamberMaster//Event Calendar 2.0//EN
METHOD:PUBLISH
X-PUBLISHED-TTL:P3D
REFRESH-INTERVAL:P3D
CALSCALE:GREGORIAN
BEGIN:VEVENT
DTSTART:20110726T220000Z
DTEND:20110726T233000Z
X-MICROSOFT-CDO-ALLDAYEVENT:FALSE
SUMMARY:Sustainable Funding For Your Nonprofit
DESCRIPTION:What would it look like to have an ever-increasing stream of major donors who love your mission?\nJoin us for this free seminar on how to create sustainable funding for your nonprofit.\n\nEducational: Learn a system for fundraising you can start to implement right away.\n\nSustainable:Learn to get your organization off the annual fundraising treadmill forever.\n\nFinancial Results:In the first year\, our groups raise an average of $200\,000 in gifts and pledges.\n\nBy the end of this session\, you will have learned:\nâ€¢ A tested system to identify and cultivate donors who love your missionâ€”donors who will give for operations\, capital\, and endowment\n\nâ€¢ How to engage your community in your organizationâ€™s mission and to inspire giving\n\nâ€¢ How to get started right awayto implement mission-focused\, permission-based fundraising
X-ALT-DESC;FMTTYPE=text/html:What would it look like to have an ever-increasing stream of major donors who love your mission?\nJoin us for this free seminar on how to create sustainable funding for your nonprofit.\n\nEducational: Learn a system for fundraising you can start to implement right away.\n\nSustainable:Learn to get your organization off the annual fundraising treadmill forever.\n\nFinancial Results:In the first year\, our groups raise an average of $200\,000 in gifts and pledges.\n\nBy the end of this session\, you will have learned:\nâ€¢ A tested system to identify and cultivate donors who love your missionâ€”donors who will give for operations\, capital\, and endowment\n\nâ€¢ How to engage your community in your organizationâ€™s mission and to inspire giving\n\nâ€¢ How to get started right awayto implement mission-focused\, permission-based fundraising
LOCATION:Renaissance Dallas Richardson Hotel
UID:e.2096.14
SEQUENCE:3
DTSTAMP:20260422T152853Z
URL:https://network.garlandchamber.com/events/details/sustainable-funding-for-your-nonprofit-07-26-2011-14
END:VEVENT

END:VCALENDAR
