BEGIN:VCALENDAR
VERSION:2.0
PRODID:-//ChamberMaster//Event Calendar 2.0//EN
METHOD:PUBLISH
X-PUBLISHED-TTL:P3D
REFRESH-INTERVAL:P3D
CALSCALE:GREGORIAN
BEGIN:VEVENT
DTSTART:20110302T060000Z
DTEND:20110302T060000Z
X-MICROSOFT-CDO-ALLDAYEVENT:FALSE
SUMMARY:Talent Impact Summit: Workforce Education Strategy
DESCRIPTION:Talent Impact Summit: Workforce Education Strategy
X-ALT-DESC;FMTTYPE=text/html:Talent Impact Summit: Workforce Education Strategy
LOCATION:
UID:e.2096.2269
SEQUENCE:3
DTSTAMP:20260422T221641Z
URL:https://network.garlandchamber.com/events/details/talent-impact-summit-workforce-education-strategy-03-02-2011-2269
END:VEVENT

END:VCALENDAR
