BEGIN:VCALENDAR
VERSION:2.0
PRODID:-//ChamberMaster//Event Calendar 2.0//EN
METHOD:PUBLISH
X-PUBLISHED-TTL:P3D
REFRESH-INTERVAL:P3D
CALSCALE:GREGORIAN
BEGIN:VEVENT
DTSTART:20130414T000000Z
DTEND:20130414T030000Z
X-MICROSOFT-CDO-ALLDAYEVENT:FALSE
SUMMARY:Taste of Garland
DESCRIPTION:Bring your family and friends to the 24th Annual Taste of Garland for all-you-can-eat dishes from local restaurants and other food establishments\, door prizes\, and silent and live auctions. Advance Tickets: $20 per personAt the Door: $25 per person Additional Information | Make a Contribution
X-ALT-DESC;FMTTYPE=text/html:<DIV style="FONT-FAMILY: Arial">Bring your family and friends to the 24th Annual Taste of Garland for all-you-can-eat dishes from local restaurants and other food establishments\, door prizes\, and silent and live auctions.</DIV><DIV style="FONT-FAMILY: Arial">&nbsp\;</DIV><DIV style="FONT-FAMILY: Arial">Advance Tickets: $20 per person</DIV><DIV style="FONT-FAMILY: Arial">At the Door: $25 per person</DIV><DIV style="FONT-FAMILY: Arial">&nbsp\;</DIV><DIV style="FONT-FAMILY: Arial"><A dataFld=0:0 href="http://www.garlandchamber.com/images/stories/chamber/Member%20Promotions/2013%20taste%20of%20garland%202.pdf">Additional Information</A> | <A dataFld=0:0 href="http://www.garlandchamber.com/images/stories/chamber/Member%20Promotions/2013%20taste%20of%20garland%201.pdf">Make a Contribution</A></DIV>
LOCATION:Curtis Culwell Center
UID:e.2096.1170
SEQUENCE:3
DTSTAMP:20260421T090319Z
URL:https://network.garlandchamber.com/events/details/taste-of-garland-04-13-2013-1170
END:VEVENT

END:VCALENDAR
