BEGIN:VCALENDAR
VERSION:2.0
PRODID:-//ChamberMaster//Event Calendar 2.0//EN
METHOD:PUBLISH
X-PUBLISHED-TTL:P3D
REFRESH-INTERVAL:P3D
CALSCALE:GREGORIAN
BEGIN:VEVENT
DTSTART:20120817T150000Z
DTEND:20120819T230000Z
X-MICROSOFT-CDO-ALLDAYEVENT:FALSE
SUMMARY:Tax Free Weekend at Sam's Club
DESCRIPTION:Sam's Club is opening its doors to non-members so everyone can take part in the great deals available for Texas Tax-Free Weekend Friday\, Aug. 17 through Sunday\, Aug. 19. See Event Flyer
X-ALT-DESC;FMTTYPE=text/html:<DIV style="FONT-FAMILY: Arial">Sam's Club is opening its doors to non-members so everyone can take part in the great deals available for Texas Tax-Free Weekend Friday\, Aug. 17 through Sunday\, Aug. 19.</DIV><DIV style="FONT-FAMILY: Arial">&nbsp\;</DIV><DIV style="FONT-FAMILY: Arial"><A dataFld=0:0 href="http://www.garlandchamber.com/images/stories/chamber/Member%20Promotions/Sams%20Tax%20Free%20Open%20House.pdf">See Event Flyer</A></DIV>
LOCATION:Sam's Club #8242
UID:e.2096.1076
SEQUENCE:3
DTSTAMP:20260421T204745Z
URL:https://network.garlandchamber.com/events/details/tax-free-weekend-at-sam-s-club-08-17-2012-1076
END:VEVENT

END:VCALENDAR
