BEGIN:VCALENDAR
VERSION:2.0
PRODID:-//ChamberMaster//Event Calendar 2.0//EN
METHOD:PUBLISH
X-PUBLISHED-TTL:P3D
REFRESH-INTERVAL:P3D
CALSCALE:GREGORIAN
BEGIN:VEVENT
DTSTART:20070619T154500Z
DTEND:20070619T050000Z
X-MICROSOFT-CDO-ALLDAYEVENT:FALSE
SUMMARY:Texas Land & Cattle Steakhouse Grand Opening
DESCRIPTION:
X-ALT-DESC;FMTTYPE=text/html:
LOCATION:Texas Land & Cattle Steakhouse
UID:e.2096.401
SEQUENCE:3
DTSTAMP:20260425T120608Z
URL:https://network.garlandchamber.com/events/details/texas-land-cattle-steakhouse-grand-opening-06-19-2007-401
END:VEVENT

END:VCALENDAR
