BEGIN:VCALENDAR
VERSION:2.0
PRODID:-//ChamberMaster//Event Calendar 2.0//EN
METHOD:PUBLISH
X-PUBLISHED-TTL:P3D
REFRESH-INTERVAL:P3D
CALSCALE:GREGORIAN
BEGIN:VEVENT
DTSTART:20070319T210000Z
DTEND:20070320T030000Z
X-MICROSOFT-CDO-ALLDAYEVENT:FALSE
SUMMARY:Texas Roadhouse Opens Today at 4:00p.m.!
DESCRIPTION:
X-ALT-DESC;FMTTYPE=text/html:
LOCATION:Texas Roadhouse
UID:e.2096.378
SEQUENCE:3
DTSTAMP:20260425T164337Z
URL:https://network.garlandchamber.com/events/details/texas-roadhouse-opens-today-at-4-00p-m-03-19-2007-378
END:VEVENT

END:VCALENDAR
