BEGIN:VCALENDAR
VERSION:2.0
PRODID:-//ChamberMaster//Event Calendar 2.0//EN
METHOD:PUBLISH
X-PUBLISHED-TTL:P3D
REFRESH-INTERVAL:P3D
CALSCALE:GREGORIAN
BEGIN:VEVENT
DTSTART:20121030T163000Z
DTEND:20121030T180000Z
X-MICROSOFT-CDO-ALLDAYEVENT:FALSE
SUMMARY:Texas Security Bank Business Institute
DESCRIPTION:Texas Security Bank Business Institute for Accounting & Financial Management Advice for the Business Owner including:Challenges of small business accountingRole of the accounting function in your organizationHow good accounting impacts management decisionsRoles of the CFOTrusting the numbers\, providing insightGetting your house in order Cost: $20 (includes lunch) See the Event Flyer for Details
X-ALT-DESC;FMTTYPE=text/html:<DIV style="FONT-FAMILY: Arial">Texas Security Bank Business Institute for Accounting &amp\; Financial Management</DIV><DIV style="FONT-FAMILY: Arial">&nbsp\;</DIV><DIV style="FONT-FAMILY: Arial">Advice for the Business Owner including:</DIV><DIV style="FONT-FAMILY: Arial">Challenges of small business accounting</DIV><DIV style="FONT-FAMILY: Arial">Role of the accounting function in your organization</DIV><DIV style="FONT-FAMILY: Arial">How good accounting impacts management decisions</DIV><DIV style="FONT-FAMILY: Arial">Roles of the CFO</DIV><DIV style="FONT-FAMILY: Arial">Trusting the numbers\, providing insight</DIV><DIV style="FONT-FAMILY: Arial">Getting your house in order</DIV><DIV style="FONT-FAMILY: Arial">&nbsp\;</DIV><DIV style="FONT-FAMILY: Arial">Cost: $20 (includes lunch)</DIV><DIV style="FONT-FAMILY: Arial">&nbsp\;</DIV><DIV style="FONT-FAMILY: Arial"><A dataFld=0:0 href="http://www.garlandchamber.com/images/stories/chamber/Member%20Promotions/TSB%20garland_invite%20pdf.pdf">See the Event Flyer for Details</A></DIV>
LOCATION:Garland Chamber of Commerce
UID:e.2096.1104
SEQUENCE:3
DTSTAMP:20260421T192415Z
URL:https://network.garlandchamber.com/events/details/texas-security-bank-business-institute-10-30-2012-1104
END:VEVENT

END:VCALENDAR
