BEGIN:VCALENDAR
VERSION:2.0
PRODID:-//ChamberMaster//Event Calendar 2.0//EN
METHOD:PUBLISH
X-PUBLISHED-TTL:P3D
REFRESH-INTERVAL:P3D
CALSCALE:GREGORIAN
BEGIN:VEVENT
DTSTART:20121011T140000Z
DTEND:20121011T200000Z
X-MICROSOFT-CDO-ALLDAYEVENT:FALSE
SUMMARY:''The Ageless Spirit'' Wellness Fair
DESCRIPTION:At the Ageless Spirit Wellness Fair\, you will rediscover the positive impact that your inner spirit imparts on health and well begin. The Ageless Spirit Wellness Fair will also feature health screenings\, wellness classes and local experts to guide you on your path to healthy aging. The event promises to be an informative\, entertaining and uplifting way to pursue your Optimum Life. Make plans now to attend! Please call Jayna Ford at (972) 278-8500 Over 35 vendors\, guest speakers\, wellness classes & door prizes. Download the Exhibitor Registration Form
X-ALT-DESC;FMTTYPE=text/html:<DIV style="FONT-FAMILY: Arial">At the Ageless Spirit Wellness Fair\, you will rediscover the positive impact that your inner spirit imparts on health and well begin. The Ageless Spirit Wellness Fair will also feature health screenings\, wellness classes and local experts to guide you on your path to healthy aging.</DIV><DIV style="FONT-FAMILY: Arial">&nbsp\;</DIV><DIV style="FONT-FAMILY: Arial">The event promises to be an informative\, entertaining and uplifting way to pursue your Optimum Life. Make plans now to attend!</DIV><DIV style="FONT-FAMILY: Arial">&nbsp\;</DIV><DIV style="FONT-FAMILY: Arial">Please call Jayna Ford at (972) 278-8500</DIV><DIV style="FONT-FAMILY: Arial">&nbsp\;</DIV><DIV style="FONT-FAMILY: Arial">Over 35 vendors\, guest speakers\, wellness classes &amp\; door prizes.</DIV><DIV style="FONT-FAMILY: Arial">&nbsp\;</DIV><DIV style="FONT-FAMILY: Arial"><A dataFld=0:0 href="http://www.garlandchamber.com/images/stories/chamber/Member%20Promotions/Chambrel%20Wellness%20Fair.pdf">Download the Exhibitor Registration Form</A></DIV>
LOCATION:Chambrel at Club Hill
UID:e.2096.1081
SEQUENCE:3
DTSTAMP:20260421T175837Z
URL:https://network.garlandchamber.com/events/details/the-ageless-spirit-wellness-fair-10-11-2012-1081
END:VEVENT

END:VCALENDAR
