BEGIN:VCALENDAR
VERSION:2.0
PRODID:-//ChamberMaster//Event Calendar 2.0//EN
METHOD:PUBLISH
X-PUBLISHED-TTL:P3D
REFRESH-INTERVAL:P3D
CALSCALE:GREGORIAN
BEGIN:VEVENT
DTSTART:20070218T010000Z
DTEND:20070218T030000Z
X-MICROSOFT-CDO-ALLDAYEVENT:FALSE
SUMMARY:The Ayubu Kamau Sacred Afrikan Drum and Dance Society
DESCRIPTION:FREE\, general seating available (no tickets needed) - Call the SPAR office @ (972) 860-7185 for information. (Open To Public)\n\nEnjoy healing rhythms and African dance presentations that entertain\, educate and inspire.  Learn about the History\, Language\, Culture and the global impact of the Diaspora of African music and dance expressions. Ayubu Kamau will introduce a collection of African instruments including Congo Drums\, Ashiko\, Djimbe\, Shekere\, and many others.  This group will captivate youthrough traditional African\, Afro-American and Afro-Caribbean rhythms\, colorful dance\, Griot (storytelling)\, and songs while creating a spirit of oneness and celebration!
X-ALT-DESC;FMTTYPE=text/html:FREE\, general seating available (no tickets needed) - Call the SPAR office @ (972) 860-7185 for information. (Open To Public)\n\nEnjoy healing rhythms and African dance presentations that entertain\, educate and inspire.  Learn about the History\, Language\, Culture and the global impact of the Diaspora of African music and dance expressions. Ayubu Kamau will introduce a collection of African instruments including Congo Drums\, Ashiko\, Djimbe\, Shekere\, and many others.  This group will captivate youthrough traditional African\, Afro-American and Afro-Caribbean rhythms\, colorful dance\, Griot (storytelling)\, and songs while creating a spirit of oneness and celebration!
LOCATION:Eastfield College
UID:e.2096.33
SEQUENCE:3
DTSTAMP:20260425T175104Z
URL:https://network.garlandchamber.com/events/details/the-ayubu-kamau-sacred-afrikan-drum-and-dance-society-02-17-2007-33
END:VEVENT

END:VCALENDAR
