BEGIN:VCALENDAR
VERSION:2.0
PRODID:-//ChamberMaster//Event Calendar 2.0//EN
METHOD:PUBLISH
X-PUBLISHED-TTL:P3D
REFRESH-INTERVAL:P3D
CALSCALE:GREGORIAN
BEGIN:VEVENT
DTSTART:20070425T120000Z
DTEND:20070425T213000Z
X-MICROSOFT-CDO-ALLDAYEVENT:FALSE
SUMMARY:The Disney Keys to Excellence
DESCRIPTION:What You Will LearnThis unique one-day interactive workshop will challenge you to look at your business – whether it’s small\, mid-sized or large – in an entirely new light. Showcasing the powerful strategies and business models that are the cornerstones of Disney’s long-term success\, you’ll learn how to apply Disney’s innovative approaches to your own organization for immediate results. Leadership\, Disney StyleDiscover how effective leadership has been the catalyst at Disney to drive employee/customer satisfaction and bottom-line results\, from the company's inception to today.·          Communicate a compelling vision - Understand the leader's pivotal role in championing the vision.·          Build involvement and ownership - Learn proven strategies for increasing employee ownership and pride.·          Organize for maximum involvement - Examine your current organizational structure to assess your capacity for delivering positive results.·          Capitalize on change - Learn proven strategies for driving proactive change through employee involvement.Management\, Disney StyleUnderstand the importance of integrating your corporate culture into selection\, training\, and care.·          Establish a culture through learning by design - Learn steps to operationalize your culture.·          Select and hire "right-fit" employees - Explore the Disney hiring process.·          Train and motivate employees- Learn training strategies for orientation and ongoing training that encourage employee buy-in to your corporate culture.·          Create a support environment - Learn how to create and reward "heroes" in your workplace.Service\, Disney StyleExplore world-renowned Disney principles for service excellence.·          Develop a service philosophy - Understand the Disney definition of quality service. Explore qualitative and quantitative techniques for knowing and understanding customers.·          Learn tools to support a service culture - Develop a service theme that defines your organization's purpose. Discover service standards that provide a framework for making quality decisions.·          Deliver on the service theme - Examine delivery systems that ensure positive customer experiences.Loyalty\, Disney StyleLearn key practices and principles in building and sustaining loyalty that have made Disney a trusted and revered brand around the world for more than 75 years.·          The business case for loyalty - Explore the Disney definition of loyalty. Examine the link between loyalty and financial results.·          Strategies for creating loyalty - Identify your brand promise. Identify your core components.·          Align for loyalty - Learn a conceptual model that impacts the customer experience. Learn Disney tactics for creating emotional connections with employees and customers.
X-ALT-DESC;FMTTYPE=text/html:<DIV><H1 style="MARGIN: 0in 0in 6pt\; TEXT-ALIGN: center" align=center><SPAN style="FONT-WEIGHT: normal\; FONT-SIZE: 14pt\; FONT-FAMILY: Arial\; mso-bidi-font-weight: bold">What You Will Learn<?xml:namespace prefix = o ns = "urn:schemas-microsoft-com:office:office" /><o:p></o:p></SPAN></H1><P class=Pa2 style="MARGIN: 0in 0in 0pt 0.1in\; LINE-HEIGHT: normal"><FONT color=#2b4267><SPAN class=A5><SPAN style="FONT-SIZE: 9pt\; FONT-FAMILY: Arial">This unique one-day interactive workshop will challenge you to look at your business – whether it’s small\, mid-sized or large – in an entirely new light. Showcasing the powerful strategies and business models that are the cornerstones of Disney’s long-term success\, you’ll learn how to apply Disney’s innovative approaches to your own organization for immediate results. </SPAN></SPAN><SPAN style="FONT-SIZE: 9pt\; FONT-FAMILY: Arial"><o:p></o:p></SPAN></FONT></P><P style="MARGIN: 12pt 0in 3pt 0.1in"><B><SPAN style="FONT-SIZE: 9pt\; COLOR: black\; FONT-FAMILY: Arial">Leadership\, Disney Style<o:p></o:p></SPAN></B></P><P style="MARGIN: 0in 0in 6pt 0.1in"><SPAN style="FONT-SIZE: 9pt\; COLOR: black\; FONT-FAMILY: Arial">Discover how effective leadership has been the catalyst at Disney to drive employee/customer satisfaction and bottom-line results\, from the company's inception to today.<o:p></o:p></SPAN></P><P style="MARGIN: 3pt 0in 3pt 0.5in\; TEXT-INDENT: -0.25in\; mso-list: l3 level2 lfo1"><SPAN style="FONT-SIZE: 9pt\; COLOR: black\; FONT-FAMILY: Symbol\; mso-fareast-font-family: Symbol\; mso-bidi-font-family: Symbol"><SPAN style="mso-list: Ignore">·<SPAN style="FONT: 7pt 'Times New Roman'">&nbsp\;&nbsp\;&nbsp\;&nbsp\;&nbsp\;&nbsp\;&nbsp\;&nbsp\;&nbsp\; </SPAN></SPAN></SPAN><I><SPAN style="FONT-SIZE: 9pt\; COLOR: black\; FONT-FAMILY: Arial">Communicate a compelling vision</SPAN></I><SPAN style="FONT-SIZE: 9pt\; COLOR: black\; FONT-FAMILY: Arial"> - Understand the leader's pivotal role in championing the vision.<o:p></o:p></SPAN></P><P style="MARGIN: 3pt 0in 3pt 0.5in\; TEXT-INDENT: -0.25in\; mso-list: l3 level2 lfo1"><SPAN style="FONT-SIZE: 9pt\; COLOR: black\; FONT-FAMILY: Symbol\; mso-fareast-font-family: Symbol\; mso-bidi-font-family: Symbol"><SPAN style="mso-list: Ignore">·<SPAN style="FONT: 7pt 'Times New Roman'">&nbsp\;&nbsp\;&nbsp\;&nbsp\;&nbsp\;&nbsp\;&nbsp\;&nbsp\;&nbsp\; </SPAN></SPAN></SPAN><I><SPAN style="FONT-SIZE: 9pt\; COLOR: black\; FONT-FAMILY: Arial">Build involvement and ownership</SPAN></I><SPAN style="FONT-SIZE: 9pt\; COLOR: black\; FONT-FAMILY: Arial"> - Learn proven strategies for increasing employee ownership and pride.<o:p></o:p></SPAN></P><P style="MARGIN: 3pt 0in 3pt 0.5in\; TEXT-INDENT: -0.25in\; mso-list: l3 level2 lfo1"><SPAN style="FONT-SIZE: 9pt\; COLOR: black\; FONT-FAMILY: Symbol\; mso-fareast-font-family: Symbol\; mso-bidi-font-family: Symbol"><SPAN style="mso-list: Ignore">·<SPAN style="FONT: 7pt 'Times New Roman'">&nbsp\;&nbsp\;&nbsp\;&nbsp\;&nbsp\;&nbsp\;&nbsp\;&nbsp\;&nbsp\; </SPAN></SPAN></SPAN><I><SPAN style="FONT-SIZE: 9pt\; COLOR: black\; FONT-FAMILY: Arial">Organize for maximum involvement</SPAN></I><SPAN style="FONT-SIZE: 9pt\; COLOR: black\; FONT-FAMILY: Arial"> - Examine your current organizational structure to assess your capacity for delivering positive results.<o:p></o:p></SPAN></P><P style="MARGIN: 3pt 0in 3pt 0.5in\; TEXT-INDENT: -0.25in\; mso-list: l3 level2 lfo1"><SPAN style="FONT-SIZE: 9pt\; COLOR: black\; FONT-FAMILY: Symbol\; mso-fareast-font-family: Symbol\; mso-bidi-font-family: Symbol"><SPAN style="mso-list: Ignore">·<SPAN style="FONT: 7pt 'Times New Roman'">&nbsp\;&nbsp\;&nbsp\;&nbsp\;&nbsp\;&nbsp\;&nbsp\;&nbsp\;&nbsp\; </SPAN></SPAN></SPAN><I><SPAN style="FONT-SIZE: 9pt\; COLOR: black\; FONT-FAMILY: Arial">Capitalize on change</SPAN></I><SPAN style="FONT-SIZE: 9pt\; COLOR: black\; FONT-FAMILY: Arial"> - Learn proven strategies for driving proactive change through employee involvement.<o:p></o:p></SPAN></P><P style="MARGIN: 6pt 0in 3pt 9pt"><B><SPAN style="FONT-SIZE: 9pt\; COLOR: black\; FONT-FAMILY: Arial">Management\, Disney Style<o:p></o:p></SPAN></B></P><P style="MARGIN: 0in 0in 6pt 9pt"><SPAN style="FONT-SIZE: 9pt\; COLOR: black\; FONT-FAMILY: Arial">Understand the importance of integrating your corporate culture into selection\, training\, and care.<o:p></o:p></SPAN></P><P style="MARGIN: 3pt 0in 3pt 0.5in\; TEXT-INDENT: -0.25in\; mso-list: l0 level2 lfo2"><SPAN style="FONT-SIZE: 9pt\; COLOR: black\; FONT-FAMILY: Symbol\; mso-fareast-font-family: Symbol\; mso-bidi-font-family: Symbol"><SPAN style="mso-list: Ignore">·<SPAN style="FONT: 7pt 'Times New Roman'">&nbsp\;&nbsp\;&nbsp\;&nbsp\;&nbsp\;&nbsp\;&nbsp\;&nbsp\;&nbsp\; </SPAN></SPAN></SPAN><I><SPAN style="FONT-SIZE: 9pt\; COLOR: black\; FONT-FAMILY: Arial">Establish a culture through learning by design</SPAN></I><SPAN style="FONT-SIZE: 9pt\; COLOR: black\; FONT-FAMILY: Arial"> - Learn steps to operationalize your culture.<o:p></o:p></SPAN></P><P style="MARGIN: 3pt 0in 3pt 0.5in\; TEXT-INDENT: -0.25in\; mso-list: l0 level2 lfo2"><SPAN style="FONT-SIZE: 9pt\; COLOR: black\; FONT-FAMILY: Symbol\; mso-fareast-font-family: Symbol\; mso-bidi-font-family: Symbol"><SPAN style="mso-list: Ignore">·<SPAN style="FONT: 7pt 'Times New Roman'">&nbsp\;&nbsp\;&nbsp\;&nbsp\;&nbsp\;&nbsp\;&nbsp\;&nbsp\;&nbsp\; </SPAN></SPAN></SPAN><I><SPAN style="FONT-SIZE: 9pt\; COLOR: black\; FONT-FAMILY: Arial">Select and hire "right-fit" employees</SPAN></I><SPAN style="FONT-SIZE: 9pt\; COLOR: black\; FONT-FAMILY: Arial"> - Explore the Disney hiring process.<o:p></o:p></SPAN></P><P style="MARGIN: 3pt 0in 3pt 0.5in\; TEXT-INDENT: -0.25in\; mso-list: l0 level2 lfo2"><SPAN style="FONT-SIZE: 9pt\; COLOR: black\; FONT-FAMILY: Symbol\; mso-fareast-font-family: Symbol\; mso-bidi-font-family: Symbol"><SPAN style="mso-list: Ignore">·<SPAN style="FONT: 7pt 'Times New Roman'">&nbsp\;&nbsp\;&nbsp\;&nbsp\;&nbsp\;&nbsp\;&nbsp\;&nbsp\;&nbsp\; </SPAN></SPAN></SPAN><I><SPAN style="FONT-SIZE: 9pt\; COLOR: black\; FONT-FAMILY: Arial">Train and motivate employees</SPAN></I><SPAN style="FONT-SIZE: 9pt\; COLOR: black\; FONT-FAMILY: Arial">- Learn training strategies for orientation and ongoing training that encourage employee buy-in to your corporate culture.<o:p></o:p></SPAN></P><P style="MARGIN: 3pt 0in 12pt 0.5in\; TEXT-INDENT: -0.25in\; mso-list: l0 level2 lfo2"><SPAN style="FONT-SIZE: 9pt\; COLOR: black\; FONT-FAMILY: Symbol\; mso-fareast-font-family: Symbol\; mso-bidi-font-family: Symbol"><SPAN style="mso-list: Ignore">·<SPAN style="FONT: 7pt 'Times New Roman'">&nbsp\;&nbsp\;&nbsp\;&nbsp\;&nbsp\;&nbsp\;&nbsp\;&nbsp\;&nbsp\; </SPAN></SPAN></SPAN><I><SPAN style="FONT-SIZE: 9pt\; COLOR: black\; FONT-FAMILY: Arial">Create a support environment</SPAN></I><SPAN style="FONT-SIZE: 9pt\; COLOR: black\; FONT-FAMILY: Arial"> - Learn how to create and reward "heroes" in your workplace.<o:p></o:p></SPAN></P><P style="MARGIN: 6pt 0in 3pt 9pt"><B><SPAN style="FONT-SIZE: 9pt\; COLOR: black\; FONT-FAMILY: Arial">Service\, Disney Style<o:p></o:p></SPAN></B></P><P style="MARGIN: 0in 0in 6pt 9pt"><SPAN style="FONT-SIZE: 9pt\; COLOR: black\; FONT-FAMILY: Arial">Explore world-renowned Disney principles for service excellence.<o:p></o:p></SPAN></P><P style="MARGIN: 3pt 0in 3pt 0.5in\; TEXT-INDENT: -0.25in\; mso-list: l2 level2 lfo3\; tab-stops: .5in"><SPAN style="FONT-SIZE: 9pt\; COLOR: black\; FONT-FAMILY: Symbol\; mso-fareast-font-family: Symbol\; mso-bidi-font-family: Symbol"><SPAN style="mso-list: Ignore">·<SPAN style="FONT: 7pt 'Times New Roman'">&nbsp\;&nbsp\;&nbsp\;&nbsp\;&nbsp\;&nbsp\;&nbsp\;&nbsp\;&nbsp\; </SPAN></SPAN></SPAN><I><SPAN style="FONT-SIZE: 9pt\; COLOR: black\; FONT-FAMILY: Arial">Develop a service philosophy</SPAN></I><SPAN style="FONT-SIZE: 9pt\; COLOR: black\; FONT-FAMILY: Arial"> - Understand the Disney definition of quality service. Explore qualitative and quantitative techniques for knowing and understanding customers.<o:p></o:p></SPAN></P><P style="MARGIN: 3pt 0in 3pt 0.5in\; TEXT-INDENT: -0.25in\; mso-list: l2 level2 lfo3\; tab-stops: .5in"><SPAN style="FONT-SIZE: 9pt\; COLOR: black\; FONT-FAMILY: Symbol\; mso-fareast-font-family: Symbol\; mso-bidi-font-family: Symbol"><SPAN style="mso-list: Ignore">·<SPAN style="FONT: 7pt 'Times New Roman'">&nbsp\;&nbsp\;&nbsp\;&nbsp\;&nbsp\;&nbsp\;&nbsp\;&nbsp\;&nbsp\; </SPAN></SPAN></SPAN><I><SPAN style="FONT-SIZE: 9pt\; COLOR: black\; FONT-FAMILY: Arial">Learn tools to support a service culture</SPAN></I><SPAN style="FONT-SIZE: 9pt\; COLOR: black\; FONT-FAMILY: Arial"> - Develop a service theme that defines your organization's purpose. Discover service standards that provide a framework for making quality decisions.<o:p></o:p></SPAN></P><P style="MARGIN: 3pt 0in 3pt 0.5in\; TEXT-INDENT: -0.25in\; mso-list: l2 level2 lfo3\; tab-stops: .5in"><SPAN style="FONT-SIZE: 9pt\; COLOR: black\; FONT-FAMILY: Symbol\; mso-fareast-font-family: Symbol\; mso-bidi-font-family: Symbol"><SPAN style="mso-list: Ignore">·<SPAN style="FONT: 7pt 'Times New Roman'">&nbsp\;&nbsp\;&nbsp\;&nbsp\;&nbsp\;&nbsp\;&nbsp\;&nbsp\;&nbsp\; </SPAN></SPAN></SPAN><I><SPAN style="FONT-SIZE: 9pt\; COLOR: black\; FONT-FAMILY: Arial">Deliver on the service theme</SPAN></I><SPAN style="FONT-SIZE: 9pt\; COLOR: black\; FONT-FAMILY: Arial"> - Examine delivery systems that ensure positive customer experiences.<o:p></o:p></SPAN></P><P style="MARGIN: 6pt 0in 3pt 9pt"><B><SPAN style="FONT-SIZE: 9pt\; COLOR: black\; FONT-FAMILY: Arial">Loyalty\, Disney Style<o:p></o:p></SPAN></B></P><P style="MARGIN: 0in 0in 6pt 9pt"><SPAN style="FONT-SIZE: 9pt\; COLOR: black\; FONT-FAMILY: Arial">Learn key practices and principles in building and sustaining loyalty that have made Disney a trusted and revered brand around the world for more than 75 years.<o:p></o:p></SPAN></P><P style="MARGIN: 3pt 0in 3pt 0.5in\; TEXT-INDENT: -0.25in\; mso-list: l1 level2 lfo4"><SPAN style="FONT-SIZE: 9pt\; COLOR: black\; FONT-FAMILY: Symbol\; mso-fareast-font-family: Symbol\; mso-bidi-font-family: Symbol"><SPAN style="mso-list: Ignore">·<SPAN style="FONT: 7pt 'Times New Roman'">&nbsp\;&nbsp\;&nbsp\;&nbsp\;&nbsp\;&nbsp\;&nbsp\;&nbsp\;&nbsp\; </SPAN></SPAN></SPAN><I><SPAN style="FONT-SIZE: 9pt\; COLOR: black\; FONT-FAMILY: Arial">The business case for loyalty</SPAN></I><SPAN style="FONT-SIZE: 9pt\; COLOR: black\; FONT-FAMILY: Arial"> - Explore the Disney definition of loyalty. Examine the link between loyalty and financial results.<o:p></o:p></SPAN></P><P style="MARGIN: 3pt 0in 3pt 0.5in\; TEXT-INDENT: -0.25in\; mso-list: l1 level2 lfo4"><SPAN style="FONT-SIZE: 9pt\; COLOR: black\; FONT-FAMILY: Symbol\; mso-fareast-font-family: Symbol\; mso-bidi-font-family: Symbol"><SPAN style="mso-list: Ignore">·<SPAN style="FONT: 7pt 'Times New Roman'">&nbsp\;&nbsp\;&nbsp\;&nbsp\;&nbsp\;&nbsp\;&nbsp\;&nbsp\;&nbsp\; </SPAN></SPAN></SPAN><I><SPAN style="FONT-SIZE: 9pt\; COLOR: black\; FONT-FAMILY: Arial">Strategies for creating loyalty</SPAN></I><SPAN style="FONT-SIZE: 9pt\; COLOR: black\; FONT-FAMILY: Arial"> - Identify your brand promise. Identify your core components.<o:p></o:p></SPAN></P><P style="MARGIN: 3pt 0in 3pt 0.5in\; TEXT-INDENT: -0.25in\; mso-list: l1 level2 lfo4"><SPAN style="FONT-SIZE: 9pt\; FONT-FAMILY: Symbol\; mso-fareast-font-family: Symbol\; mso-bidi-font-family: Symbol"><SPAN style="mso-list: Ignore">·<SPAN style="FONT: 7pt 'Times New Roman'">&nbsp\;&nbsp\;&nbsp\;&nbsp\;&nbsp\;&nbsp\;&nbsp\;&nbsp\;&nbsp\; </SPAN></SPAN></SPAN><I><SPAN style="FONT-SIZE: 9pt\; FONT-FAMILY: Arial">Align for loyalty</SPAN></I><SPAN style="FONT-SIZE: 9pt\; FONT-FAMILY: Arial"> - Learn a conceptual model that impacts the customer experience. Learn Disney tactics for creating emotional connections with employees and customers.<o:p></o:p></SPAN></P></DIV>
LOCATION:Renaisssance Hotel
UID:e.2096.355
SEQUENCE:3
DTSTAMP:20260425T151444Z
URL:https://network.garlandchamber.com/events/details/the-disney-keys-to-excellence-04-25-2007-355
END:VEVENT

END:VCALENDAR
