BEGIN:VCALENDAR
VERSION:2.0
PRODID:-//ChamberMaster//Event Calendar 2.0//EN
METHOD:PUBLISH
X-PUBLISHED-TTL:P3D
REFRESH-INTERVAL:P3D
CALSCALE:GREGORIAN
BEGIN:VEVENT
DTSTART:20120421T010000Z
DTEND:20120421T033000Z
X-MICROSOFT-CDO-ALLDAYEVENT:FALSE
SUMMARY:The Garland Symphony Presents: ''Friends\, Romans\, countrymen\,
DESCRIPTION:The Garland Symphony presents the Seventh Annual Movie Scores Quiz for an evening of challenge and enjoyment!  Garland Symphony will perform selections from the soundtracks of famous films about the plays of William Shakespeare\, and the audience gets to identify the film titles and composers. This performance will also feature clarinetist\, Jonathan Jones\, performing Rossiniâ€™s Variations for Clarinet and Orchestra!
X-ALT-DESC;FMTTYPE=text/html:The Garland Symphony presents the Seventh Annual Movie Scores Quiz for an evening of challenge and enjoyment!  Garland Symphony will perform selections from the soundtracks of famous films about the plays of William Shakespeare\, and the audience gets to identify the film titles and composers. This performance will also feature clarinetist\, Jonathan Jones\, performing Rossiniâ€™s Variations for Clarinet and Orchestra!
LOCATION:Granville Arts Center
UID:e.2096.9
SEQUENCE:3
DTSTAMP:20260422T023717Z
URL:https://network.garlandchamber.com/events/details/the-garland-symphony-presents-friends-romans-countrymen-04-20-2012-9
END:VEVENT

END:VCALENDAR
