BEGIN:VCALENDAR
VERSION:2.0
PRODID:-//ChamberMaster//Event Calendar 2.0//EN
METHOD:PUBLISH
X-PUBLISHED-TTL:P3D
REFRESH-INTERVAL:P3D
CALSCALE:GREGORIAN
BEGIN:VEVENT
DTSTART:20120202T140000Z
DTEND:20120202T150000Z
X-MICROSOFT-CDO-ALLDAYEVENT:FALSE
SUMMARY:The Generator Coffee House Ribbon Cutting
DESCRIPTION:
X-ALT-DESC;FMTTYPE=text/html:<P>&nbsp\;</P>
LOCATION:The Generator (On the Square)
UID:e.2096.997
SEQUENCE:3
DTSTAMP:20260422T051938Z
URL:https://network.garlandchamber.com/events/details/the-generator-coffee-house-ribbon-cutting-02-02-2012-997
END:VEVENT

END:VCALENDAR
