BEGIN:VCALENDAR
VERSION:2.0
PRODID:-//ChamberMaster//Event Calendar 2.0//EN
METHOD:PUBLISH
X-PUBLISHED-TTL:P3D
REFRESH-INTERVAL:P3D
CALSCALE:GREGORIAN
BEGIN:VEVENT
DTSTART:20080507T220000Z
DTEND:20080508T000000Z
X-MICROSOFT-CDO-ALLDAYEVENT:FALSE
SUMMARY:The Great GISD BBQ Smackdown
DESCRIPTION:
X-ALT-DESC;FMTTYPE=text/html:
LOCATION:G.I.S.D. Special Events Center
UID:e.2096.522
SEQUENCE:3
DTSTAMP:20260424T200434Z
URL:https://network.garlandchamber.com/events/details/the-great-gisd-bbq-smackdown-05-07-2008-522
END:VEVENT

END:VCALENDAR
