BEGIN:VCALENDAR
VERSION:2.0
PRODID:-//ChamberMaster//Event Calendar 2.0//EN
METHOD:PUBLISH
X-PUBLISHED-TTL:P3D
REFRESH-INTERVAL:P3D
CALSCALE:GREGORIAN
BEGIN:VEVENT
DTSTART:20090321T180000Z
DTEND:20090321T200000Z
X-MICROSOFT-CDO-ALLDAYEVENT:FALSE
SUMMARY:The New Face of Networking . . .Social Media
DESCRIPTION:CDA presents The New Face of Networking . . .How to Profit from Social Media\, a special open meetingon Saturday\, March 21\, 2009 featuring Maria Whitworth\, who willshow how to navigate and effectivelyutilize this brave new world of Social Media. She will presenther simple 10-Steps to Effective Social Networking that will take you from creating your online presence to discovering a multitude of ways you can generate revenues as a result!\n\nThe meeting is Saturday\, March 21\, 2009\, from 1:00 p.m.to 3:00 p.m.\, at the Career Design Offices in Garland. There is no charge. R.S.V.P. email options@career-design.com. or (972) 278-4701.
X-ALT-DESC;FMTTYPE=text/html:CDA presents The New Face of Networking . . .How to Profit from Social Media\, a special open meetingon Saturday\, March 21\, 2009 featuring Maria Whitworth\, who willshow how to navigate and effectivelyutilize this brave new world of Social Media. She will presenther simple 10-Steps to Effective Social Networking that will take you from creating your online presence to discovering a multitude of ways you can generate revenues as a result!\n\nThe meeting is Saturday\, March 21\, 2009\, from 1:00 p.m.to 3:00 p.m.\, at the Career Design Offices in Garland. There is no charge. R.S.V.P. email options@career-design.com. or (972) 278-4701.
LOCATION:Career Design Associates\, Inc.
UID:e.2096.20
SEQUENCE:3
DTSTAMP:20260424T064225Z
URL:https://network.garlandchamber.com/events/details/the-new-face-of-networking-social-media-03-21-2009-20
END:VEVENT

END:VCALENDAR
