BEGIN:VCALENDAR
VERSION:2.0
PRODID:-//ChamberMaster//Event Calendar 2.0//EN
METHOD:PUBLISH
X-PUBLISHED-TTL:P3D
REFRESH-INTERVAL:P3D
CALSCALE:GREGORIAN
BEGIN:VEVENT
DTSTART:20090113T233000Z
DTEND:20090114T003000Z
X-MICROSOFT-CDO-ALLDAYEVENT:FALSE
SUMMARY:The New Leadership Garland Alumni Year Celebration
DESCRIPTION:
X-ALT-DESC;FMTTYPE=text/html:
LOCATION:The Atrium at the Granville Arts Center
UID:e.2096.617
SEQUENCE:3
DTSTAMP:20260424T091614Z
URL:https://network.garlandchamber.com/events/details/the-new-leadership-garland-alumni-year-celebration-01-13-2009-617
END:VEVENT

END:VCALENDAR
