BEGIN:VCALENDAR
VERSION:2.0
PRODID:-//ChamberMaster//Event Calendar 2.0//EN
METHOD:PUBLISH
X-PUBLISHED-TTL:P3D
REFRESH-INTERVAL:P3D
CALSCALE:GREGORIAN
BEGIN:VEVENT
DTSTART:20081031T150000Z
DTEND:20081031T200000Z
X-MICROSOFT-CDO-ALLDAYEVENT:FALSE
SUMMARY:The Payton Group Specialty Advertising Open House
DESCRIPTION:
X-ALT-DESC;FMTTYPE=text/html:
LOCATION:The Payton Group
UID:e.2096.596
SEQUENCE:3
DTSTAMP:20260424T132224Z
URL:https://network.garlandchamber.com/events/details/the-payton-group-specialty-advertising-open-house-10-31-2008-596
END:VEVENT

END:VCALENDAR
