BEGIN:VCALENDAR
VERSION:2.0
PRODID:-//ChamberMaster//Event Calendar 2.0//EN
METHOD:PUBLISH
X-PUBLISHED-TTL:P3D
REFRESH-INTERVAL:P3D
CALSCALE:GREGORIAN
BEGIN:VEVENT
DTSTART:20130529T140000Z
DTEND:20130529T160000Z
X-MICROSOFT-CDO-ALLDAYEVENT:FALSE
SUMMARY:The Power of Email Marketing
DESCRIPTION:CLICK HERE TO REGISTER(seating limited to 100 attendees)In just 90 minutes\, this information-packed seminar will review the essential strategies and best practices a business or organization should understand to successfully launch an on-going email marketing campaign. The seminar will demonstrate how email marketing can really help drive business success. *  Participants will discover how communicating with customers regularly can help a small business stay connected\, and generate increased referrals\, repeat sales\, and unwavering customer loyalty.  *  Participants will learn how to start and build a strong permission-based customer list\, get their audience to open\, read and act on their email\, and use their past results to sharpen their email marketing program as they go along. *  All participants will have the opportunity to get a FREE custom designed email/newsletter branded to match your web site layout or if you don't have a web site\, we will custom design an email for your organization based on your logo\, colors\, products and services.  *  This practical seminar will provide a concise\, but comprehensive overview of how easy it is to create and send professional-looking email newsletters and promotions. Attendees will learn the latest best practices and proven strategies. *  You will have plenty of time to ask questions\, share experiences\, and network with peers. And you'll leave with real-world insights and knowledge that you can put to work immediately\, to help your business or organization succeed
X-ALT-DESC;FMTTYPE=text/html:<DIV style="FONT-FAMILY: Arial"><P style="MARGIN: 0in 0in 0pt"><A dataFld=0:0 href="https://events.r20.constantcontact.com/register/eventReg?oeidk=a07e7gni6o55ef7bec1&amp\;oseq=&amp\;c=&amp\;ch="><STRONG>CLICK HERE TO REGISTER</STRONG></A></SPAN></P><P style="MARGIN: 0in 0in 0pt">(seating limited to 100 attendees)</SPAN></P><P style="MARGIN: 0in 0in 0pt"></SPAN></P><P style="MARGIN: 0in 0in 0pt">In just 90 minutes\, this information-packed seminar will review the essential strategies and best practices a business or organization should understand to successfully launch an on-going email marketing campaign. The seminar will demonstrate how email marketing can really help drive business success.</SPAN><?xml:namespace prefix = o ns = "urn:schemas-microsoft-com:office:office" /><o:p></o:p></SPAN></P><P style="TEXT-INDENT: 2.25pt\; MARGIN: 0in 0in 0pt">&nbsp\;</SPAN><SPAN style="FONT-FAMILY: 'Century Gothic'\,'sans-serif'\; COLOR: #333333\; FONT-SIZE: 10pt"><o:p></o:p></SPAN></P><P style="MARGIN: 0in 0in 0pt" class=MsoNormal>*&nbsp\; Participants will discover how communicating with customers regularly can help a small business stay connected\, and generate increased referrals\, repeat sales\, and unwavering customer loyalty.</SPAN><o:p></o:p></SPAN></P><P style="MARGIN: 0in 0in 0pt">&nbsp\;<o:p></o:p></SPAN></P><P style="MARGIN: 0in 0in 0pt">&nbsp\;*&nbsp\; Participants will learn how to start and build a strong permission-based customer list\, get their audience to open\, read and act on their email\, and use their past results to sharpen their email marketing program as they go along.</SPAN><o:p></o:p></SPAN></P><P style="TEXT-INDENT: 2.25pt\; MARGIN: 0in 0in 0pt">&nbsp\;</SPAN><o:p></o:p></SPAN></P><P style="MARGIN: 0in 0in 0pt">*&nbsp\; All participants will have the opportunity to get a FREE custom designed email/newsletter branded to match your web site layout or if you don't have a web site\, we will custom design an email for your organization based on your logo\, colors\, products and services. </SPAN><o:p></o:p></SPAN></P><P style="MARGIN: 0in 0in 0pt">&nbsp\;</SPAN><SPAN style="FONT-FAMILY: 'Century Gothic'\,'sans-serif'\; COLOR: #333333\; FONT-SIZE: 10pt"><o:p></o:p></SPAN></P><P style="MARGIN: 0in 0in 0pt">*&nbsp\; This practical seminar will provide a concise\, but comprehensive overview of how easy it is to create and send professional-looking email newsletters and promotions. Attendees will learn the latest best practices and proven strategies.</SPAN><o:p></o:p></SPAN></P><P style="TEXT-INDENT: 2.25pt\; MARGIN: 0in 0in 0pt">&nbsp\;</SPAN><o:p></o:p></SPAN></P>*&nbsp\; You will have plenty of time to ask questions\, share experiences\, and network with peers. And you'll leave with real-world insights and knowledge that you can put to work immediately\, to help your business or organization succeed</SPAN></DIV>
LOCATION:Richland College Garland Campus
UID:e.2096.1189
SEQUENCE:3
DTSTAMP:20260421T090449Z
URL:https://network.garlandchamber.com/events/details/the-power-of-email-marketing-05-29-2013-1189
END:VEVENT

END:VCALENDAR
