BEGIN:VCALENDAR
VERSION:2.0
PRODID:-//ChamberMaster//Event Calendar 2.0//EN
METHOD:PUBLISH
X-PUBLISHED-TTL:P3D
REFRESH-INTERVAL:P3D
CALSCALE:GREGORIAN
BEGIN:VEVENT
DTSTART:20081017T200000Z
DTEND:20081017T050000Z
X-MICROSOFT-CDO-ALLDAYEVENT:FALSE
SUMMARY:The Steak Angus Ribbon Cutting Ceremony
DESCRIPTION:
X-ALT-DESC;FMTTYPE=text/html:
LOCATION:The Steak Angus
UID:e.2096.589
SEQUENCE:3
DTSTAMP:20260424T132330Z
URL:https://network.garlandchamber.com/events/details/the-steak-angus-ribbon-cutting-ceremony-10-17-2008-589
END:VEVENT

END:VCALENDAR
