BEGIN:VCALENDAR
VERSION:2.0
PRODID:-//ChamberMaster//Event Calendar 2.0//EN
METHOD:PUBLISH
X-PUBLISHED-TTL:P3D
REFRESH-INTERVAL:P3D
CALSCALE:GREGORIAN
BEGIN:VEVENT
DTSTART:20110721T210000Z
DTEND:20110721T050000Z
X-MICROSOFT-CDO-ALLDAYEVENT:FALSE
SUMMARY:The Warren Center Ribbon Cutting Ceremony
DESCRIPTION:You are invited to a Ribbon Cutting in honor of the Warren Center expanding into the Garland ISD service area. Thursday\, July 21\, at 4pmThe Warren School2625 AnitaGarland\, Texas 75041 Meet employees of the warren center\, board members\, and community\, city\, and district leaders in Garland and Richardson. The warren center is a nonprofit organization governed by a volunteer board of trustees.  The agency annually serves approximately 1000 children who need therapy to improve motor skills\, speech\, feeding\, cognition\, social skills and sensory difficulties including vision and hearing\, by designing a plan for each child’s needs.  Since its inception in 1968\, the warren center has helped more than 10\,000 children and their families. The expanded organization will employ 70 therapists and professionals at two locations in Garland and Richardson.   Funding for the non-profit comes from the Texas Early Childhood Intervention program\, Medicaid\, private insurance\, United Way\, and private donations.  Children served through Early Childhood Intervention reside in a service area that extends north to the Collin County line\, west to the Dallas North Tollway\, south to Baylor Hospital\, and east to Rowlett and Wylie. For more information\, contact the warren center\, 972-490-9055\, or email anna.leblanc@thewarrencenter.org
X-ALT-DESC;FMTTYPE=text/html:<DIV><P style="MARGIN: 0in 26.1pt 0pt 22.35pt" class=MsoNormal><SPAN style="FONT-FAMILY: 'Century Schoolbook'\,'serif'\; mso-bidi-font-size: 12.0pt"><FONT color=#000000>You are invited to a <B style="mso-bidi-font-weight: normal">Ribbon Cutting</B> in honor of the Warren Center expanding into the Garland ISD service area.<?xml:namespace prefix = o ns = "urn:schemas-microsoft-com:office:office" /><o:p></o:p></FONT></SPAN></P><P style="MARGIN: 0in 26.1pt 0pt 22.35pt" class=MsoNormal><SPAN style="FONT-FAMILY: 'Century Schoolbook'\,'serif'\; mso-bidi-font-size: 12.0pt"><o:p>&nbsp\;</o:p></SPAN></P><P style="MARGIN: 0in 26.1pt 0pt 1in" class=MsoNormal><B style="mso-bidi-font-weight: normal"><SPAN style="FONT-FAMILY: 'Century Schoolbook'\,'serif'\; mso-bidi-font-size: 12.0pt"><FONT color=#ec7600>Thursday\, July 21\, at 4pm<o:p></o:p></FONT></SPAN></B></P><P style="MARGIN: 0in 26.1pt 0pt 1in" class=MsoNormal><B style="mso-bidi-font-weight: normal"><SPAN style="FONT-FAMILY: 'Century Schoolbook'\,'serif'\; mso-bidi-font-size: 12.0pt"><FONT color=#ec7600>The <?xml:namespace prefix = st1 ns = "urn:schemas-microsoft-com:office:smarttags" /><st1:place w:st="on"><st1:PlaceName w:st="on">Warren</st1:PlaceName> <st1:PlaceName w:st="on">School</st1:PlaceName></st1:place><o:p></o:p></FONT></SPAN></B></P><P style="MARGIN: 0in 26.1pt 0pt 1in" class=MsoNormal><B style="mso-bidi-font-weight: normal"><SPAN style="FONT-FAMILY: 'Century Schoolbook'\,'serif'\; mso-bidi-font-size: 12.0pt"><FONT color=#ec7600>2625 Anita<o:p></o:p></FONT></SPAN></B></P><P style="MARGIN: 0in 26.1pt 0pt 1in" class=MsoNormal><FONT color=#ec7600><st1:place w:st="on"><st1:City w:st="on"><B style="mso-bidi-font-weight: normal"><SPAN style="FONT-FAMILY: 'Century Schoolbook'\,'serif'\; mso-bidi-font-size: 12.0pt">Garland</SPAN></B></st1:City><B style="mso-bidi-font-weight: normal"><SPAN style="FONT-FAMILY: 'Century Schoolbook'\,'serif'\; mso-bidi-font-size: 12.0pt">\, <st1:State w:st="on">Texas</st1:State> <st1:PostalCode w:st="on">75041</st1:PostalCode></SPAN></B></st1:place><B style="mso-bidi-font-weight: normal"><SPAN style="FONT-FAMILY: 'Century Schoolbook'\,'serif'\; mso-bidi-font-size: 12.0pt"><o:p></o:p></SPAN></B></FONT></P><P style="MARGIN: 0in 26.1pt 0pt 22.35pt" class=MsoNormal><SPAN style="FONT-FAMILY: 'Century Schoolbook'\,'serif'\; mso-bidi-font-size: 12.0pt"><o:p>&nbsp\;</o:p></SPAN></P><P style="MARGIN: 0in 26.1pt 0pt 22.35pt" class=MsoNormal><SPAN style="FONT-FAMILY: 'Century Schoolbook'\,'serif'\; mso-bidi-font-size: 12.0pt"><FONT color=#000000>Meet employees of the warren center\, board members\, and community\, city\, and district leaders in <st1:City w:st="on">Garland</st1:City> and <st1:City w:st="on"><st1:place w:st="on">Richardson</st1:place></st1:City>.<o:p></o:p></FONT></SPAN></P><P style="MARGIN: 0in 26.1pt 0pt 22.35pt" class=MsoNormal><SPAN style="FONT-FAMILY: 'Century Schoolbook'\,'serif'\; mso-bidi-font-size: 12.0pt"><o:p><FONT color=#000000>&nbsp\;</FONT></o:p></SPAN></P><P style="MARGIN: 0in 26.1pt 0pt 22.35pt" class=MsoNormal><SPAN style="FONT-FAMILY: 'Century Schoolbook'\,'serif'\; mso-bidi-font-size: 12.0pt"><FONT color=#000000>The warren center is a nonprofit organization governed by a volunteer board of trustees.<SPAN style="mso-spacerun: yes">&nbsp\; </SPAN>The agency annually serves approximately 1000 children who need therapy to improve motor skills\, speech\, feeding\, cognition\, social skills and sensory difficulties including vision and hearing\, by designing a plan for each child’s needs.<SPAN style="mso-spacerun: yes">&nbsp\; </SPAN>Since its inception in 1968\, the warren center has helped more than 10\,000 children and their families.<o:p></o:p></FONT></SPAN></P><P style="MARGIN: 0in 26.1pt 0pt 22.35pt" class=MsoNormal><SPAN style="FONT-FAMILY: 'Century Schoolbook'\,'serif'\; mso-bidi-font-size: 12.0pt"><o:p><FONT color=#000000>&nbsp\;</FONT></o:p></SPAN></P><P style="MARGIN: 0in 26.1pt 0pt 22.35pt" class=MsoNormal><SPAN style="FONT-FAMILY: 'Century Schoolbook'\,'serif'\; mso-bidi-font-size: 12.0pt"><FONT color=#000000>The expanded organization will employ 70 therapists and professionals at two locations in <st1:City w:st="on">Garland</st1:City> and <st1:City w:st="on"><st1:place w:st="on">Richardson</st1:place></st1:City>. <SPAN style="mso-spacerun: yes">&nbsp\;&nbsp\;</SPAN>Funding for the non-profit comes from the Texas Early Childhood Intervention program\, Medicaid\, private insurance\, <st1:Street w:st="on"><st1:address w:st="on">United Way</st1:address></st1:Street>\, and private donations.<SPAN style="mso-spacerun: yes">&nbsp\; </SPAN>Children served through Early Childhood Intervention reside in a service area that extends north to the <st1:PlaceName w:st="on">Collin</st1:PlaceName> <st1:PlaceName w:st="on">County</st1:PlaceName> line\, west to the Dallas North Tollway\, south to <st1:place w:st="on"><st1:PlaceName w:st="on">Baylor</st1:PlaceName> <st1:PlaceType w:st="on">Hospital</st1:PlaceType></st1:place>\, and east to Rowlett and Wylie.<o:p></o:p></FONT></SPAN></P><P style="MARGIN: 0in 26.1pt 0pt 22.35pt" class=MsoNormal><SPAN style="FONT-FAMILY: 'Century Schoolbook'\,'serif'\; mso-bidi-font-size: 12.0pt"><o:p><FONT color=#000000>&nbsp\;</FONT></o:p></SPAN></P><P style="MARGIN: 0in 26.1pt 0pt 22.35pt" class=MsoNormal><SPAN style="FONT-FAMILY: 'Century Schoolbook'\,'serif'\; mso-bidi-font-size: 12.0pt"><FONT color=#000000>For more information\, contact the warren center\, 972-490-9055\, or email </FONT><A href="mailto:anna.leblanc@thewarrencenter.org">anna.leblanc@thewarrencenter.org</A><o:p></o:p></SPAN></P></DIV>
LOCATION:The Warren School
UID:e.2096.944
SEQUENCE:3
DTSTAMP:20260422T152928Z
URL:https://network.garlandchamber.com/events/details/the-warren-center-ribbon-cutting-ceremony-07-21-2011-944
END:VEVENT

END:VCALENDAR
