BEGIN:VCALENDAR
VERSION:2.0
PRODID:-//ChamberMaster//Event Calendar 2.0//EN
METHOD:PUBLISH
X-PUBLISHED-TTL:P3D
REFRESH-INTERVAL:P3D
CALSCALE:GREGORIAN
BEGIN:VEVENT
DTSTART:20060817T050000Z
DTEND:20060817T050000Z
X-MICROSOFT-CDO-ALLDAYEVENT:FALSE
SUMMARY:Time For Me Without The Guilt @ Lifetime Fitness
DESCRIPTION:Time For Me Without The Guilt @ Lifetime Fitness
X-ALT-DESC;FMTTYPE=text/html:Time For Me Without The Guilt @ Lifetime Fitness
LOCATION:The Lawton Estates
UID:e.2096.1610
SEQUENCE:3
DTSTAMP:20260426T031829Z
URL:https://network.garlandchamber.com/events/details/time-for-me-without-the-guilt-lifetime-fitness-08-17-2006-1610
END:VEVENT

END:VCALENDAR
