BEGIN:VCALENDAR
VERSION:2.0
PRODID:-//ChamberMaster//Event Calendar 2.0//EN
METHOD:PUBLISH
X-PUBLISHED-TTL:P3D
REFRESH-INTERVAL:P3D
CALSCALE:GREGORIAN
BEGIN:VEVENT
DTSTART:20110209T013000Z
DTEND:20110209T060000Z
X-MICROSOFT-CDO-ALLDAYEVENT:FALSE
SUMMARY:Town Hall Meeting Roadway Safety Concerns
DESCRIPTION:RSVP at http://www.NTTA.org/AboutUs/Who/VendorOutreachSymposium.html
X-ALT-DESC;FMTTYPE=text/html:<DIV>RSVP at <A href="http://www.NTTA.org/AboutUs/Who/VendorOutreachSymposium.html">http://www.NTTA.org/AboutUs/Who/VendorOutreachSymposium.html</A>&nbsp\;&nbsp\;&nbsp\;&nbsp\; </DIV>
LOCATION:
UID:e.2096.899
SEQUENCE:3
DTSTAMP:20260422T223014Z
URL:https://network.garlandchamber.com/events/details/town-hall-meeting-roadway-safety-concerns-02-08-2011-899
END:VEVENT

END:VCALENDAR
