BEGIN:VCALENDAR
VERSION:2.0
PRODID:-//ChamberMaster//Event Calendar 2.0//EN
METHOD:PUBLISH
X-PUBLISHED-TTL:P3D
REFRESH-INTERVAL:P3D
CALSCALE:GREGORIAN
BEGIN:VEVENT
DTSTART:20101130T230000Z
DTEND:20101221T010000Z
X-MICROSOFT-CDO-ALLDAYEVENT:FALSE
SUMMARY:Toys for Tots Toy Drive
DESCRIPTION:
X-ALT-DESC;FMTTYPE=text/html:
LOCATION:Truly Noble Services\, Inc.
UID:e.2096.856
SEQUENCE:3
DTSTAMP:20260423T011039Z
URL:https://network.garlandchamber.com/events/details/toys-for-tots-toy-drive-11-30-2010-856
END:VEVENT

END:VCALENDAR
