BEGIN:VCALENDAR
VERSION:2.0
PRODID:-//ChamberMaster//Event Calendar 2.0//EN
METHOD:PUBLISH
X-PUBLISHED-TTL:P3D
REFRESH-INTERVAL:P3D
CALSCALE:GREGORIAN
BEGIN:VEVENT
DTSTART:20091103T143000Z
DTEND:20091103T180000Z
X-MICROSOFT-CDO-ALLDAYEVENT:FALSE
SUMMARY:''Train the Trainer'' Free Workshop
DESCRIPTION:
X-ALT-DESC;FMTTYPE=text/html:
LOCATION:Garland Chamber of Commerce
UID:e.2096.695
SEQUENCE:3
DTSTAMP:20260423T192228Z
URL:https://network.garlandchamber.com/events/details/train-the-trainer-free-workshop-11-03-2009-695
END:VEVENT

END:VCALENDAR
