BEGIN:VCALENDAR
VERSION:2.0
PRODID:-//ChamberMaster//Event Calendar 2.0//EN
METHOD:PUBLISH
X-PUBLISHED-TTL:P3D
REFRESH-INTERVAL:P3D
CALSCALE:GREGORIAN
BEGIN:VEVENT
DTSTART:20110830T050000Z
DTEND:20110830T050000Z
X-MICROSOFT-CDO-ALLDAYEVENT:FALSE
SUMMARY:Transportation Updates
DESCRIPTION:Transportation Updates
X-ALT-DESC;FMTTYPE=text/html:Transportation Updates
LOCATION:Richland College Garland Campus
UID:e.2096.2328
SEQUENCE:3
DTSTAMP:20260422T134621Z
URL:https://network.garlandchamber.com/events/details/transportation-updates-08-30-2011-2328
END:VEVENT

END:VCALENDAR
